BEGIN:VCALENDAR
VERSION:2.0
PRODID:-//Elise Witt - ECPv6.15.12.2//NONSGML v1.0//EN
CALSCALE:GREGORIAN
METHOD:PUBLISH
X-WR-CALNAME:Elise Witt
X-ORIGINAL-URL:https://elisewitt.com/web
X-WR-CALDESC:Events for Elise Witt
REFRESH-INTERVAL;VALUE=DURATION:PT1H
X-Robots-Tag:noindex
X-PUBLISHED-TTL:PT1H
BEGIN:VTIMEZONE
TZID:America/New_York
BEGIN:DAYLIGHT
TZOFFSETFROM:-0500
TZOFFSETTO:-0400
TZNAME:EDT
DTSTART:20210314T070000
END:DAYLIGHT
BEGIN:STANDARD
TZOFFSETFROM:-0400
TZOFFSETTO:-0500
TZNAME:EST
DTSTART:20211107T060000
END:STANDARD
BEGIN:DAYLIGHT
TZOFFSETFROM:-0500
TZOFFSETTO:-0400
TZNAME:EDT
DTSTART:20220313T070000
END:DAYLIGHT
BEGIN:STANDARD
TZOFFSETFROM:-0400
TZOFFSETTO:-0500
TZNAME:EST
DTSTART:20221106T060000
END:STANDARD
BEGIN:DAYLIGHT
TZOFFSETFROM:-0500
TZOFFSETTO:-0400
TZNAME:EDT
DTSTART:20230312T070000
END:DAYLIGHT
BEGIN:STANDARD
TZOFFSETFROM:-0400
TZOFFSETTO:-0500
TZNAME:EST
DTSTART:20231105T060000
END:STANDARD
END:VTIMEZONE
BEGIN:VEVENT
DTSTART;TZID=America/New_York:20220911T140000
DTEND;TZID=America/New_York:20220911T160000
DTSTAMP:20260425T234018
CREATED:20220909T144316Z
LAST-MODIFIED:20220909T144318Z
UID:26152-1662904800-1662912000@elisewitt.com
SUMMARY:The Great Silent Grandmother Gathering
DESCRIPTION:Sun. Sept. 11 @ 2pm\n\n\n\non the Plaza between the Alliance and the High Museum\n\n\n\nFree & Open to the Public\n\n\n\nYou’re invited to a staged reading of “The Great Silent Grandmother Gathering” a book by Sharon Mehdi on Grandparents Day Sunday\, September 11th at 2:00 pm. Described by Mehdi as “a story for anyone who thinks she can’t save the world” this piece will be read by Alliance Theater Playwright-in-Resident Pearl Cleage and directed by Patrick McColery. \n\n\n\nI will be providing pre-and post-music for this celebration!
URL:https://elisewitt.com/web/calendar/the-great-silent-grandmother-gathering/
LOCATION:Alliance theatre\, 1280 Peachtree St NE\, Atlanta\, Georgia\, 30309\, United States
CATEGORIES:Concerts
ATTACH;FMTTYPE=image/png:https://elisewitt.com/web/wp-content/uploads/2022/09/Great-Silent-Grandmothers.png
END:VEVENT
BEGIN:VEVENT
DTSTART;TZID=America/New_York:20220921T173000
DTEND;TZID=America/New_York:20220921T193000
DTSTAMP:20260425T234018
CREATED:20220826T002644Z
LAST-MODIFIED:20220901T170347Z
UID:26059-1663781400-1663788600@elisewitt.com
SUMMARY:Sister Harmonies with Mary & Elise Witt
DESCRIPTION:Wed. Sept. 21\n\n\n\narrive 5:30 pm ~ concert 6:00 pm\n\n\n\n\n\nOutdoor House Concert on a Lake Westhampton\, MA \n\n\n\nBring your own seating & picnicRain or ShineOnly thunder & lightning cancellationEmail notification by 3pm \n\n\n\nAudience size limited \n\n\n\nAddress sent with Reservation Reservation and advance payment required \n\n\n\n\n\n\nSliding Scale\n\n\n\n$15-55 sliding scale (please be affordable & generous) \n\n\n\nPlease be affordable & generous \n\n\n\nPayment Options\n\n\n\n1) Send a  Payment on Venmo to @Elise-Witt \n\n\n\n(look for my picture with the flowers to confirm it’s me!) \n\n\n\n2) Send check to: EMWorld Records\, PO Box 148\, Pine Lake GA 30072 \n\n\n\n3) Check or Cash in person \n\n\n\n\n\n\n\n\n\n\n\n  \n\n\n\n First and Last Name\n \n \n Your email\n \n \n What is the name of the workshop/ concert you are registering for?\n \n \n What is the date of the workshop/ concert you are registering for?\n \n \n How will you pay?\nOnline via Venmo @Elise-WittOnline via Paypal @EliseWittCash or Check\n \n Your message (optional)\n \n \n[mailpoetsignup mailpoetsignup-278 list:4 list:7 "Join Elise's Newsletter"]
URL:https://elisewitt.com/web/calendar/sister-harmonies-with-mary-elise-witt/
LOCATION:Westhampton\, MA\, Westhampton\, Massachusetts\, United States
CATEGORIES:Concerts
ATTACH;FMTTYPE=image/jpeg:https://elisewitt.com/web/wp-content/uploads/2022/08/SisterHarmonies-02-portrait.jpg
END:VEVENT
BEGIN:VEVENT
DTSTART;TZID=America/New_York:20220930T193000
DTEND;TZID=America/New_York:20220930T213000
DTSTAMP:20260425T234018
CREATED:20220825T194046Z
LAST-MODIFIED:20220901T154302Z
UID:26028-1664566200-1664573400@elisewitt.com
SUMMARY:Concert with Evie Ladin & Keith Terry
DESCRIPTION:Evie Ladin & Keith Terry\n\n\n\n\nCONCERT ~ Fri. Sept. 30 ~ 7:30 – 9:00 p.m.\n\n\n\nConcert admission: $15-55 sliding scale (please be affordable and generous)\n\n\n\nInnovative musicians/dancers with a quirky neo-trad soul\, Oakland\, CA-based Evie Ladin & Keith Terry throw down original folk songs and deep interpretations of old songs\, with the kinetic thrill of percussive dance. Truly entertaining acoustic performance for any age! \n\n\n\nFri. Sept. 30 ~ 7:30 p.m. ~ House Concert in Pine Lake \n\n\n\nSat. Oct. 1 ~ 11:00 a.m. – 12:30 p.m. ~ Body Music Workshop in Pine lake \n\n\n\n\n\n\n\nRegister Online for the Concert:\n\n\n\n*Email Sing@EliseWitt.com to confirm your registration. \n\n\n\n\n  \n\n\n\n First and Last Name\n \n \n Your email\n \n \n What is the name of the workshop/ concert you are registering for?\n \n \n What is the date of the workshop/ concert you are registering for?\n \n \n How will you pay?\nOnline via Venmo @Elise-WittOnline via Paypal @EliseWittCash or Check\n \n Your message (optional)\n \n \n[mailpoetsignup mailpoetsignup-278 list:4 list:7 "Join Elise's Newsletter"]\n \n\n \n\n\n\n\n\n\nCheck out Evie & Keith here: \n\n\n\nhttps://evieladin.com/projects/evie-ladin-keith-terry/ \n\n\n\nListen here: https://evieladin.com/videos/  \n\n\n\n\n\n\n\n\nEVIE LADIN \n\n\n\nA prolific singer-songwriter\, percussive dancer and square dance caller\, the polyrhythmic heat of Evie’s clawhammer banjo has been heard from A Prairie Home Companion to Celtic Connections\, Lincoln Center to Hardly Strictly Bluegrass. Born and raised on Southern music\, from inner city Baltimore to Oakland\, she has taken home ribbons at stringband contests and won awards for albums.  \n\n\n\nShe can write\, she can sing\, and she pulls back from the saccharine brink with wit – a sharp intelligence. –Grant Alden\, No Depression \n\n\n\nLadin sings and plays infectious clawhammer banjo\, while Terry is a master percussionist. It was Appalachian string band music pared to the absolute minimum of accompaniment\, but packed with an orchestra’s worth of rhythm. – Music City Roots\, Nashville \n\n\n\n\n\nKEITH TERRY \n\n\n\nTrained as a jazz drummer\, Keith Terry brings tonal percussion to stand-up bass\, is a renowned percussionist/rhythm dancer\, the founder of the International Body Music Festival\, and a collaborator with a host of inventive performers from Bobby McFerrin\, Tex Williams and Robin Williams\, to Turtle Island Quartet\, Charles “Honi” Coles and Bill Irwin.  \n\n\n\nMr. Terry in action is like visiting an anatomical carnival\, where hands\, feet\, fingers\, engage in a musical ballet. – Wall Street Journal
URL:https://elisewitt.com/web/calendar/concert-with-evie-ladin-keith-terry/
LOCATION:Pine Lake\, GA\, Pine Lake\, Georgia\, 30072\, United States
CATEGORIES:Concerts
ATTACH;FMTTYPE=image/jpeg:https://elisewitt.com/web/wp-content/uploads/2022/08/Evie-Keith-banjo-bass.jpg
END:VEVENT
END:VCALENDAR