BEGIN:VCALENDAR
VERSION:2.0
PRODID:-//Elise Witt - ECPv6.15.12.2//NONSGML v1.0//EN
CALSCALE:GREGORIAN
METHOD:PUBLISH
X-ORIGINAL-URL:https://elisewitt.com/web
X-WR-CALDESC:Events for Elise Witt
REFRESH-INTERVAL;VALUE=DURATION:PT1H
X-Robots-Tag:noindex
X-PUBLISHED-TTL:PT1H
BEGIN:VTIMEZONE
TZID:America/New_York
BEGIN:DAYLIGHT
TZOFFSETFROM:-0500
TZOFFSETTO:-0400
TZNAME:EDT
DTSTART:20220313T070000
END:DAYLIGHT
BEGIN:STANDARD
TZOFFSETFROM:-0400
TZOFFSETTO:-0500
TZNAME:EST
DTSTART:20221106T060000
END:STANDARD
BEGIN:DAYLIGHT
TZOFFSETFROM:-0500
TZOFFSETTO:-0400
TZNAME:EDT
DTSTART:20230312T070000
END:DAYLIGHT
BEGIN:STANDARD
TZOFFSETFROM:-0400
TZOFFSETTO:-0500
TZNAME:EST
DTSTART:20231105T060000
END:STANDARD
BEGIN:DAYLIGHT
TZOFFSETFROM:-0500
TZOFFSETTO:-0400
TZNAME:EDT
DTSTART:20240310T070000
END:DAYLIGHT
BEGIN:STANDARD
TZOFFSETFROM:-0400
TZOFFSETTO:-0500
TZNAME:EST
DTSTART:20241103T060000
END:STANDARD
END:VTIMEZONE
BEGIN:VEVENT
DTSTART;TZID=America/New_York:20231130T080000
DTEND;TZID=America/New_York:20231130T170000
DTSTAMP:20260424T210858
CREATED:20230809T010120Z
LAST-MODIFIED:20230809T010125Z
UID:28214-1701331200-1701363600@elisewitt.com
SUMMARY:House Concert with Terry Garthwaite & Becky Reardon
DESCRIPTION:Bay Area\, CA\n\n\n\nNov. 30th\n\n\n\nDetails TBA
URL:https://elisewitt.com/web/calendar/house-concert-with-terry-garthwaite-becky-reardon/
LOCATION:GA
CATEGORIES:Concerts
ATTACH;FMTTYPE=image/jpeg:https://elisewitt.com/web/wp-content/uploads/2018/06/Becky-Terry-Elise-@-Lama-Foundation-808-300x224.jpg
END:VEVENT
END:VCALENDAR