BEGIN:VCALENDAR
VERSION:2.0
PRODID:-//Elise Witt - ECPv6.15.12.2//NONSGML v1.0//EN
CALSCALE:GREGORIAN
METHOD:PUBLISH
X-ORIGINAL-URL:https://elisewitt.com/web
X-WR-CALDESC:Events for Elise Witt
REFRESH-INTERVAL;VALUE=DURATION:PT1H
X-Robots-Tag:noindex
X-PUBLISHED-TTL:PT1H
BEGIN:VTIMEZONE
TZID:America/New_York
BEGIN:DAYLIGHT
TZOFFSETFROM:-0500
TZOFFSETTO:-0400
TZNAME:EDT
DTSTART:20230312T070000
END:DAYLIGHT
BEGIN:STANDARD
TZOFFSETFROM:-0400
TZOFFSETTO:-0500
TZNAME:EST
DTSTART:20231105T060000
END:STANDARD
BEGIN:DAYLIGHT
TZOFFSETFROM:-0500
TZOFFSETTO:-0400
TZNAME:EDT
DTSTART:20240310T070000
END:DAYLIGHT
BEGIN:STANDARD
TZOFFSETFROM:-0400
TZOFFSETTO:-0500
TZNAME:EST
DTSTART:20241103T060000
END:STANDARD
BEGIN:DAYLIGHT
TZOFFSETFROM:-0500
TZOFFSETTO:-0400
TZNAME:EDT
DTSTART:20250309T070000
END:DAYLIGHT
BEGIN:STANDARD
TZOFFSETFROM:-0400
TZOFFSETTO:-0500
TZNAME:EST
DTSTART:20251102T060000
END:STANDARD
END:VTIMEZONE
BEGIN:VEVENT
DTSTART;TZID=America/New_York:20240204T150000
DTEND;TZID=America/New_York:20240204T170000
DTSTAMP:20260424T153540
CREATED:20231206T033028Z
LAST-MODIFIED:20231206T034829Z
UID:28458-1707058800-1707066000@elisewitt.com
SUMMARY:A House Concert of Global\, Local & Homemade Songs™
DESCRIPTION:with Elise Witt & special guests\n\n\n\nSUN Feb 04 ~ 3:00 p.m.\n\n\n\n@ Cameron Village in Raleigh NC – address sent upon registration\n\n\n\nPhoto by Jessica Lily\n\n\nLegend has it Elise sang before she talked\, and she’s been singing every since. Elise has created a life combining her two passions: language and music. From her farm-ette in Pine Lake GA\, she travels far and wide\, instigating Impromptu Glorious Chorus™ adventures for singers and people who think they aren’t singers\, but secretly know that’s a lie. “She could get a colony of ants singing!” enthused a workshop participant. \n\n\n\nBorn in Switzerland\, raised in North Carolina\, and living in Atlanta since 1977\, Elise speaks 5 languages and sings in at least a dozen more. She has taken her concerts of Global\, Local & Homemade Songs™ to Lincoln Center\, the Kennedy Center and community centers around the country. She has been a cultural ambassador to South Africa\, Italy\, Nicaragua\, Yugoslavia\, Switzerland\, and China. \n\n\n\n\n\n\n\nFirst\, Register below: After registering\, you will receive a confirmation email containing information about joining the class. \n\n\n\nNext\, after you submit the registration form\, please send in payment. \n\n\n\n\n\n\n  \n\n\n\n First and Last Name\n \n \n Your email\n \n \n What is the name of the workshop/ concert you are registering for?\n \n \n What is the date of the workshop/ concert you are registering for?\n \n \n How will you pay?\nOnline via Venmo @Elise-WittOnline via Paypal @EliseWittCash or Check\n \n Your message (optional)\n \n \n[mailpoetsignup mailpoetsignup-278 list:4 list:7 "Join Elise's Newsletter"]\n \n\n \n\n\n\n\n\n\n\nWorkshop Fees\n\n\n\n\n\nPlease be affordable & generous \n\n\n\nChoose a Payment Option\n\n\n\n1) Venmo to @Elise-Witt ((look for my picture with the flowers to confirm it’s me!) \n\n\n\n2) Paypal to EMWorld Records @EliseWitt (look for my blue logo to confirm its me) \n\n\n\n3) Mail a check to: EMWorld Records\, PO Box 148\, Pine Lake GA 30072 \n\n\n\n4) Check or Cash in person
URL:https://elisewitt.com/web/calendar/a-house-concert-of-global-local-02-04-24/
LOCATION:GA
CATEGORIES:Concerts
ATTACH;FMTTYPE=image/jpeg:https://elisewitt.com/web/wp-content/uploads/2022/06/E-solo-Lake.jpg
END:VEVENT
END:VCALENDAR