BEGIN:VCALENDAR
VERSION:2.0
PRODID:-//Elise Witt - ECPv6.15.12.2//NONSGML v1.0//EN
CALSCALE:GREGORIAN
METHOD:PUBLISH
X-ORIGINAL-URL:https://elisewitt.com/web
X-WR-CALDESC:Events for Elise Witt
REFRESH-INTERVAL;VALUE=DURATION:PT1H
X-Robots-Tag:noindex
X-PUBLISHED-TTL:PT1H
BEGIN:VTIMEZONE
TZID:America/New_York
BEGIN:DAYLIGHT
TZOFFSETFROM:-0500
TZOFFSETTO:-0400
TZNAME:EDT
DTSTART:20230312T070000
END:DAYLIGHT
BEGIN:STANDARD
TZOFFSETFROM:-0400
TZOFFSETTO:-0500
TZNAME:EST
DTSTART:20231105T060000
END:STANDARD
BEGIN:DAYLIGHT
TZOFFSETFROM:-0500
TZOFFSETTO:-0400
TZNAME:EDT
DTSTART:20240310T070000
END:DAYLIGHT
BEGIN:STANDARD
TZOFFSETFROM:-0400
TZOFFSETTO:-0500
TZNAME:EST
DTSTART:20241103T060000
END:STANDARD
BEGIN:DAYLIGHT
TZOFFSETFROM:-0500
TZOFFSETTO:-0400
TZNAME:EDT
DTSTART:20250309T070000
END:DAYLIGHT
BEGIN:STANDARD
TZOFFSETFROM:-0400
TZOFFSETTO:-0500
TZNAME:EST
DTSTART:20251102T060000
END:STANDARD
END:VTIMEZONE
BEGIN:VEVENT
DTSTART;TZID=America/New_York:20240717T150000
DTEND;TZID=America/New_York:20240717T190000
DTSTAMP:20260424T055523
CREATED:20240525T221519Z
LAST-MODIFIED:20240630T172613Z
UID:28961-1721228400-1721242800@elisewitt.com
SUMMARY:Natural Rhythms in Santa Fe NM
DESCRIPTION:NATURAL RHYTHMS:\nElise Witt\, Becky Reardon\, Terry Garthwaite\n\n\n\n\n\nWED. JULY 17\n\n\n\nWorkshop & Concert in Santa Fe NM\n\n\n\n3:00 – 4:30 Workshop5:00 – 6:45 Pot Luck Dinner7:00 Concert \n\n\n\n@ The Commons on Alameda\, 2300 W. Alameda\, Santa Fe NM \n\n\n\nNATURAL RHYTHMS Terry Garthwaite (Lagunitas CA)\, Becky Reardon (Questa NM)\, Elise Witt (Pine Lake GA)\n\n\n\nImagine Janis Joplin\, Joan Baez\, Annie Ross and Edith Piaf taking a turn from Barbara Kingsolver and Dr. Seuss and you’ll have some idea of these mad and moving musical adventures. \n\n\n\nIN CONCERT \n\n\n\nWhether it’s a plaintive cry for families at the border\, a polyrhythmic improvisation on the physics of sound\, an anthem to the preservation of wild rivers and oceans\, or a musical ride on the love train\, Terry\, Becky & Elise cook from the minute they hit the stage. Bringing three radically different voices to the blend\, their voices find each other in that mysterious world of harmony in diversity. The trio’s concerts are also famous for getting the audience singing\, and even self-professed “non-singers” find themselves part of an Impromptu Glorious Chorus™. \n\n\n\nAN IMPROMPTU GLORIOUS CHORUS™ SINGING WORKSHOP \n\n\n\nSinging together takes us deeply into the experience of being held and lifted by the sound of our voices making music together. We will be singing songs of celebration\, ceremony and community\, songs celebrating the earth and our own spirit and creativity\, songs of healing and passage\, songs of playfulness and joy. We will explore our wildly versatile voices in the rainbow of colors available to us individually and as an ensemble. All of the songs are broken down into easily learnable parts and become thrilling to sing in a group. Even people who think they “can’t carry a tune in a bucket” in no time find themselves part of an impromptu glorious chorus™. Music reading is not a prerequisite. \n\n\n\n\n\n\n\nRegister below: After registering\, you will receive a confirmation email containing information about the event.  \n\n\n\nNext\, after you submit the registration form\, please send in payment. \n\n\n\n\n  \n\n\n\n First and Last Name\n \n \n Your email\n \n \nNatural Rhythms Registration:\n\nSAT. JUN 22 Point ReyesSUN. JUN 23 San FranciscoWED. JUL 17 Santa FeTHU. JUL 18 TaosSAT. JUL 20 LafayetteSUN. JUL 21 Denver\n \n How many registrants?\n \n \n How will you pay?\nOnline via Venmo @Elise-WittOnline via Paypal @EliseWittCash or Check\n \n Your message (optional)\n \n \n[mailpoetsignup mailpoetsignup-278 list:4 list:7 "Join Elise's Newsletter"]\n \n\n \n\n\n\n\n\n\n\n\nWORKSHOP/CONCERT payment\n\n\n\nPlease be affordable & generous \n\n\n\n\n\nChoose a Payment Option\n\n\n\n1) Venmo to @Elise-Witt ((look for my picture with the flowers to confirm it’s me!) \n\n\n\n2) Paypal to EMWorld Records @EliseWitt (look for my blue logo to confirm its me) \n\n\n\n3) Mail a check to: EMWorld Records\, PO Box 148\, Pine Lake GA 30072 \n\n\n\n4) Check or Cash in person
URL:https://elisewitt.com/web/calendar/natural-rhythms-in-santa-fe-jul1724/
LOCATION:GA
CATEGORIES:An Impromptu Glorious Chorus™,Concerts,Natural Rhythms,Singing Workshops
ATTACH;FMTTYPE=image/jpeg:https://elisewitt.com/web/wp-content/uploads/2014/05/Becky-Terry-Elise-@-Lama-Foundation-808.jpg
END:VEVENT
BEGIN:VEVENT
DTSTART;TZID=America/New_York:20240718T160000
DTEND;TZID=America/New_York:20240718T190000
DTSTAMP:20260424T055523
CREATED:20240526T005903Z
LAST-MODIFIED:20240630T172836Z
UID:28966-1721318400-1721329200@elisewitt.com
SUMMARY:Natural Rhythms in Taos NM
DESCRIPTION:NATURAL RHYTHMS:\nElise Witt\, Becky Reardon\, Terry Garthwaite\n\n\n\n\n\nTHURS. JULY 18\n\n\n\nWorkshop & Concert in TAOS NM\n\n\n\n4:00 – 5:15 Workshop5:15 – 5:30 Tea & Snack Break5:30 – 7:00 Concert \n\n\n\nTaos Unity Church\, 69 Blueberry Hill Road\, Taos NM. \n\n\n\nNATURAL RHYTHMS Terry Garthwaite (Lagunitas CA)\, Becky Reardon (Questa NM)\, Elise Witt (Pine Lake GA)\n\n\n\nImagine Janis Joplin\, Joan Baez\, Annie Ross and Edith Piaf taking a turn from Barbara Kingsolver and Dr. Seuss and you’ll have some idea of these mad and moving musical adventures. \n\n\n\nIN CONCERT \n\n\n\nWhether it’s a plaintive cry for families at the border\, a polyrhythmic improvisation on the physics of sound\, an anthem to the preservation of wild rivers and oceans\, or a musical ride on the love train\, Terry\, Becky & Elise cook from the minute they hit the stage. Bringing three radically different voices to the blend\, their voices find each other in that mysterious world of harmony in diversity. The trio’s concerts are also famous for getting the audience singing\, and even self-professed “non-singers” find themselves part of an Impromptu Glorious Chorus™. \n\n\n\nAN IMPROMPTU GLORIOUS CHORUS™ SINGING WORKSHOP \n\n\n\nSinging together takes us deeply into the experience of being held and lifted by the sound of our voices making music together. We will be singing songs of celebration\, ceremony and community\, songs celebrating the earth and our own spirit and creativity\, songs of healing and passage\, songs of playfulness and joy. We will explore our wildly versatile voices in the rainbow of colors available to us individually and as an ensemble. All of the songs are broken down into easily learnable parts and become thrilling to sing in a group. Even people who think they “can’t carry a tune in a bucket” in no time find themselves part of an impromptu glorious chorus™. Music reading is not a prerequisite. \n\n\n\n\n\n\n\nRegister below: After registering\, you will receive a confirmation email containing information about the event.  \n\n\n\nNext\, after you submit the registration form\, please send in payment. \n\n\n\n\n  \n\n\n\n First and Last Name\n \n \n Your email\n \n \nNatural Rhythms Registration:\n\nSAT. JUN 22 Point ReyesSUN. JUN 23 San FranciscoWED. JUL 17 Santa FeTHU. JUL 18 TaosSAT. JUL 20 LafayetteSUN. JUL 21 Denver\n \n How many registrants?\n \n \n How will you pay?\nOnline via Venmo @Elise-WittOnline via Paypal @EliseWittCash or Check\n \n Your message (optional)\n \n \n[mailpoetsignup mailpoetsignup-278 list:4 list:7 "Join Elise's Newsletter"]\n \n\n \n\n\n\n\n\n\n\n\nWORKSHOP/CONCERT payment\n\n\n\nPlease be affordable & generous \n\n\n\n\n\nChoose a Payment Option\n\n\n\n1) Venmo to @Elise-Witt ((look for my picture with the flowers to confirm it’s me!) \n\n\n\n2) Paypal to EMWorld Records @EliseWitt (look for my blue logo to confirm its me) \n\n\n\n3) Mail a check to: EMWorld Records\, PO Box 148\, Pine Lake GA 30072 \n\n\n\n4) Check or Cash in person
URL:https://elisewitt.com/web/calendar/natural-rhythms-in-taos-jul1824/
LOCATION:GA
CATEGORIES:An Impromptu Glorious Chorus™,Concerts,Natural Rhythms,Singing Workshops
ATTACH;FMTTYPE=image/jpeg:https://elisewitt.com/web/wp-content/uploads/2024/05/BTE-Sebastopol-2016-Jessica-crop-1-scaled-655x437-1.jpg
END:VEVENT
BEGIN:VEVENT
DTSTART;TZID=America/New_York:20240721T150000
DTEND;TZID=America/New_York:20240721T180000
DTSTAMP:20260424T055523
CREATED:20240526T011801Z
LAST-MODIFIED:20240630T173049Z
UID:28970-1721574000-1721584800@elisewitt.com
SUMMARY:Natural Rhythms in Denver CO
DESCRIPTION:NATURAL RHYTHMS:\nElise Witt\, Becky Reardon\, Terry Garthwaite\n\n\n\n\n\nSUN. JULY 21\n\n\n\nWorkshop & Concert in Denver CO\n\n\n\n3:00 – 4:15 Workshop4:15 – 4:30 Tea & Snack Break4:30 – 6:00 Concert \n\n\n\nWashington Park United Church of Christ\, 400 S. Williams St.\, Denver\, CO \n\n\n\nNATURAL RHYTHMS Terry Garthwaite (Lagunitas CA)\, Becky Reardon (Questa NM)\, Elise Witt (Pine Lake GA)\n\n\n\nImagine Janis Joplin\, Joan Baez\, Annie Ross and Edith Piaf taking a turn from Barbara Kingsolver and Dr. Seuss and you’ll have some idea of these mad and moving musical adventures. \n\n\n\nIN CONCERT \n\n\n\nWhether it’s a plaintive cry for families at the border\, a polyrhythmic improvisation on the physics of sound\, an anthem to the preservation of wild rivers and oceans\, or a musical ride on the love train\, Terry\, Becky & Elise cook from the minute they hit the stage. Bringing three radically different voices to the blend\, their voices find each other in that mysterious world of harmony in diversity. The trio’s concerts are also famous for getting the audience singing\, and even self-professed “non-singers” find themselves part of an Impromptu Glorious Chorus™. \n\n\n\nAN IMPROMPTU GLORIOUS CHORUS™ SINGING WORKSHOP \n\n\n\nSinging together takes us deeply into the experience of being held and lifted by the sound of our voices making music together. We will be singing songs of celebration\, ceremony and community\, songs celebrating the earth and our own spirit and creativity\, songs of healing and passage\, songs of playfulness and joy. We will explore our wildly versatile voices in the rainbow of colors available to us individually and as an ensemble. All of the songs are broken down into easily learnable parts and become thrilling to sing in a group. Even people who think they “can’t carry a tune in a bucket” in no time find themselves part of an impromptu glorious chorus™. Music reading is not a prerequisite. \n\n\n\n\n\n\n\nRegister below: After registering\, you will receive a confirmation email containing information about the event. \n\n\n\nNext\, after you submit the registration form\, please send in payment. \n\n\n\n\n  \n\n\n\n First and Last Name\n \n \n Your email\n \n \nNatural Rhythms Registration:\n\nSAT. JUN 22 Point ReyesSUN. JUN 23 San FranciscoWED. JUL 17 Santa FeTHU. JUL 18 TaosSAT. JUL 20 LafayetteSUN. JUL 21 Denver\n \n How many registrants?\n \n \n How will you pay?\nOnline via Venmo @Elise-WittOnline via Paypal @EliseWittCash or Check\n \n Your message (optional)\n \n \n[mailpoetsignup mailpoetsignup-278 list:4 list:7 "Join Elise's Newsletter"]\n \n\n \n\n\n\n\n\n\n\n\nWORKSHOP/CONCERT payment\n\n\n\nPlease be affordable & generous \n\n\n\n\n\nChoose a Payment Option\n\n\n\n1) Venmo to @Elise-Witt ((look for my picture with the flowers to confirm it’s me!) \n\n\n\n2) Paypal to EMWorld Records @EliseWitt (look for my blue logo to confirm its me) \n\n\n\n3) Mail a check to: EMWorld Records\, PO Box 148\, Pine Lake GA 30072 \n\n\n\n4) Check or Cash in person
URL:https://elisewitt.com/web/calendar/natural-rhythms-in-denver-jul2124/
LOCATION:GA
CATEGORIES:An Impromptu Glorious Chorus™,Concerts,Natural Rhythms,Singing Workshops
ATTACH;FMTTYPE=image/jpeg:https://elisewitt.com/web/wp-content/uploads/2013/12/Becky-Terry-Elise-@-Lama-Foundation-808.jpg
END:VEVENT
BEGIN:VEVENT
DTSTART;TZID=America/New_York:20240728T080000
DTEND;TZID=America/New_York:20240803T170000
DTSTAMP:20260424T055523
CREATED:20240209T185832Z
LAST-MODIFIED:20240209T190231Z
UID:28755-1722153600-1722704400@elisewitt.com
SUMMARY:Vocal Classes for Contemporary Folk Week @ The Swannanoa Gathering
DESCRIPTION:July 28 – Aug. 3\, 2024\n\n\n\n\n\nDetails & Registration:  https://swangathering.com/catalog/cf/contemporary-folk-week/ \n\n\n\nContemporary Folk Week welcomes newcomer Dar Williams to a staff that includes Grammy-winners Tom Paxton and Jim Lauderdale\, vocal instructors Moira Smiley and Red Molly’s Laurie MacAllister\, and folk veterans John Gorka\, Cliff Eberhardt\, Joe Craven\, Ellis Paul\, David Wilcox\, Nora Jane Struthers\, Greg Greenway and Vance Gilbert to form a stellar team of veteran singer/songwriters. Drawing on tradition and innovation\, our instructors bring a world of practical and imaginative experience to help you create and perform the music that makes your heart sing. Whether you’re trying out material at a local ‘open mike’\, a performer gaining some experience\, a working musician looking for some help in reaching your next goal\, or someone who would simply like to feel more confident pulling that guitar out in front of others\, we’re here to help. Our top-notch staff\, knowledgeable in the various aspects of both the art and business of contemporary acoustic music\, can help you achieve your goals. In addition\, our limited enrollment and small campus encourage community-building at its best with frequent and informal interaction between students and staff\, all doing our utmost to ensure that you go home energized and empowered to make the most of your music. Choose from a wide variety of songwriting\, performance\, vocal and creativity classes which all stress supportive interaction among staff and students and individual attention to students’ needs. Each day’s schedule will address both artistic and commercial questions and concerns\, while also providing time for sharing music on an informal basis\, and social activities will include open mikes\, concerts\, song circles\, and spontaneous music-making.   \n\n\n\nContemporary Folk Week runs concurrently with Guitar Week using the same schedule\, so it’s easy to take classes in either program. Please note\, however\, that the Contemporary Folk Week open mikes are open only to those who have declared themselves to be Contemporary Folk Week students and are taking at least two classes in the Contemporary Folk Week program. 
URL:https://elisewitt.com/web/calendar/swannanoa-072824/
LOCATION:Swannanoa NC\, Swannanoa\, NC\, United States
CATEGORIES:Concerts,Singing Workshops
ATTACH;FMTTYPE=image/png:https://elisewitt.com/web/wp-content/uploads/2023/07/Swannanoa-Gathering.png
END:VEVENT
END:VCALENDAR