BEGIN:VCALENDAR
VERSION:2.0
PRODID:-//Elise Witt - ECPv6.15.12.2//NONSGML v1.0//EN
CALSCALE:GREGORIAN
METHOD:PUBLISH
X-WR-CALNAME:Elise Witt
X-ORIGINAL-URL:https://elisewitt.com/web
X-WR-CALDESC:Events for Elise Witt
REFRESH-INTERVAL;VALUE=DURATION:PT1H
X-Robots-Tag:noindex
X-PUBLISHED-TTL:PT1H
BEGIN:VTIMEZONE
TZID:America/New_York
BEGIN:DAYLIGHT
TZOFFSETFROM:-0500
TZOFFSETTO:-0400
TZNAME:EDT
DTSTART:20230312T070000
END:DAYLIGHT
BEGIN:STANDARD
TZOFFSETFROM:-0400
TZOFFSETTO:-0500
TZNAME:EST
DTSTART:20231105T060000
END:STANDARD
BEGIN:DAYLIGHT
TZOFFSETFROM:-0500
TZOFFSETTO:-0400
TZNAME:EDT
DTSTART:20240310T070000
END:DAYLIGHT
BEGIN:STANDARD
TZOFFSETFROM:-0400
TZOFFSETTO:-0500
TZNAME:EST
DTSTART:20241103T060000
END:STANDARD
BEGIN:DAYLIGHT
TZOFFSETFROM:-0500
TZOFFSETTO:-0400
TZNAME:EDT
DTSTART:20250309T070000
END:DAYLIGHT
BEGIN:STANDARD
TZOFFSETFROM:-0400
TZOFFSETTO:-0500
TZNAME:EST
DTSTART:20251102T060000
END:STANDARD
END:VTIMEZONE
BEGIN:VEVENT
DTSTART;TZID=America/New_York:20240928T170000
DTEND;TZID=America/New_York:20240928T170000
DTSTAMP:20260422T094204
CREATED:20230924T211730Z
LAST-MODIFIED:20240707T200416Z
UID:28354-1727542800-1727542800@elisewitt.com
SUMMARY:“Imagine A Circle” songbook release concert celebrating the 15th Anniversary of the Global Village Project w/the Global Village Chorus
DESCRIPTION:Sept. 28th @ 5:00 p.m.\n\n\n\n“Imagine A Circle” songbook release concert celebrating the 15th Anniversary of the Global Village Project w/the Global Village Chorus – current students & alums – plus special surprise guests\n\n\n\n@ Oakhurst Center for Community\, 222 East Lake Dr.\, Decatur GA 30030 \n\n\n\nTickets: https://globalvillageproject.org/news/concert/ \n\n\n\nThe Global Village Chorus sings “I See You With My Heart”
URL:https://elisewitt.com/web/calendar/imagine-a-circle-songbook-release-feb24-24/
LOCATION:GA
CATEGORIES:Concerts,Global Village Project
ATTACH;FMTTYPE=image/jpeg:https://elisewitt.com/web/wp-content/uploads/2020/01/GVP-lineup.jpg
END:VEVENT
END:VCALENDAR