BEGIN:VCALENDAR
VERSION:2.0
PRODID:-//Elise Witt - ECPv6.15.12.2//NONSGML v1.0//EN
CALSCALE:GREGORIAN
METHOD:PUBLISH
X-ORIGINAL-URL:https://elisewitt.com/web
X-WR-CALDESC:Events for Elise Witt
REFRESH-INTERVAL;VALUE=DURATION:PT1H
X-Robots-Tag:noindex
X-PUBLISHED-TTL:PT1H
BEGIN:VTIMEZONE
TZID:America/New_York
BEGIN:DAYLIGHT
TZOFFSETFROM:-0500
TZOFFSETTO:-0400
TZNAME:EDT
DTSTART:20230312T070000
END:DAYLIGHT
BEGIN:STANDARD
TZOFFSETFROM:-0400
TZOFFSETTO:-0500
TZNAME:EST
DTSTART:20231105T060000
END:STANDARD
BEGIN:DAYLIGHT
TZOFFSETFROM:-0500
TZOFFSETTO:-0400
TZNAME:EDT
DTSTART:20240310T070000
END:DAYLIGHT
BEGIN:STANDARD
TZOFFSETFROM:-0400
TZOFFSETTO:-0500
TZNAME:EST
DTSTART:20241103T060000
END:STANDARD
BEGIN:DAYLIGHT
TZOFFSETFROM:-0500
TZOFFSETTO:-0400
TZNAME:EDT
DTSTART:20250309T070000
END:DAYLIGHT
BEGIN:STANDARD
TZOFFSETFROM:-0400
TZOFFSETTO:-0500
TZNAME:EST
DTSTART:20251102T060000
END:STANDARD
END:VTIMEZONE
BEGIN:VEVENT
DTSTART;TZID=America/New_York:20241025T160000
DTEND;TZID=America/New_York:20241025T190000
DTSTAMP:20260422T075905
CREATED:20240823T033403Z
LAST-MODIFIED:20241014T184900Z
UID:29525-1729872000-1729882800@elisewitt.com
SUMMARY:Concert & Community Singing Workshop in Brattleboro VT
DESCRIPTION:FRI. OCT. 25\n\n\n\nCome for the workshop OR the concert or BOTH! \n\n\n\n4:00 An Impromptu Glorious Chorus™ community singing workshop with Elise Witt\n\n\n\n5:30 Pot Luck Dinner\n\n\n\n7:00 A House Concert of Global\, Local & Homemade Songs™ with Elise Witt\n\n\n\n\n\n\n\nFirst\, Register below: After registering\, you will receive a confirmation email containing information about joining the class. Address sent upon registration. \n\n\n\nNext\, after you submit the registration form\, please send in payment. \n\n\n\n\n  \n\n\n\n First and Last Name\n \n \n Your email\n \n \n What is the name of the workshop/ concert you are registering for?\n \n \n What is the date of the workshop/ concert you are registering for?\n \n \n How will you pay?\nOnline via Venmo @Elise-WittOnline via Paypal @EliseWittCash or Check\n \n Your message (optional)\n \n \n[mailpoetsignup mailpoetsignup-278 list:4 list:7 "Join Elise's Newsletter"]\n \n\n \n\n\n\n\n\n\n\n\n\n\nREGISTRATION FEES\n\n\n\n\n\nPlease be affordable & generous \n\n\n\nChoose a Payment Option\n\n\n\n1) Venmo to @Elise-Witt (look for my picture with the flowers to confirm it’s me!) \n\n\n\n2) Paypal to EMWorld Records @EliseWitt (look for my blue logo to confirm its me) \n\n\n\n3) Mail a check to: EMWorld Records\, PO Box 148\, Pine Lake GA 30072 \n\n\n\n4) Check or Cash in person \n\n\n\n\n\n\n\n\n\nThank you so much for an incredible experience.  Your warm and skilled guidance in bringing together 30+ unknown singers was a pleasure. What a wonderful experience! \nPamela \, Chicago
URL:https://elisewitt.com/web/calendar/brattleboro-vt-102524/
LOCATION:GA
CATEGORIES:An Impromptu Glorious Chorus™,Concerts,Singing Workshops
ATTACH;FMTTYPE=image/png:https://elisewitt.com/web/wp-content/uploads/2024/08/Screenshot-2024-10-11-at-6.10.22 PM.png
END:VEVENT
END:VCALENDAR