BEGIN:VCALENDAR
VERSION:2.0
PRODID:-//Elise Witt - ECPv6.15.12.2//NONSGML v1.0//EN
CALSCALE:GREGORIAN
METHOD:PUBLISH
X-ORIGINAL-URL:https://elisewitt.com/web
X-WR-CALDESC:Events for Elise Witt
REFRESH-INTERVAL;VALUE=DURATION:PT1H
X-Robots-Tag:noindex
X-PUBLISHED-TTL:PT1H
BEGIN:VTIMEZONE
TZID:America/New_York
BEGIN:DAYLIGHT
TZOFFSETFROM:-0500
TZOFFSETTO:-0400
TZNAME:EDT
DTSTART:20240310T070000
END:DAYLIGHT
BEGIN:STANDARD
TZOFFSETFROM:-0400
TZOFFSETTO:-0500
TZNAME:EST
DTSTART:20241103T060000
END:STANDARD
BEGIN:DAYLIGHT
TZOFFSETFROM:-0500
TZOFFSETTO:-0400
TZNAME:EDT
DTSTART:20250309T070000
END:DAYLIGHT
BEGIN:STANDARD
TZOFFSETFROM:-0400
TZOFFSETTO:-0500
TZNAME:EST
DTSTART:20251102T060000
END:STANDARD
BEGIN:DAYLIGHT
TZOFFSETFROM:-0500
TZOFFSETTO:-0400
TZNAME:EDT
DTSTART:20260308T070000
END:DAYLIGHT
BEGIN:STANDARD
TZOFFSETFROM:-0400
TZOFFSETTO:-0500
TZNAME:EST
DTSTART:20261101T060000
END:STANDARD
END:VTIMEZONE
BEGIN:VEVENT
DTSTART;TZID=America/New_York:20250516T133000
DTEND;TZID=America/New_York:20250516T153000
DTSTAMP:20260421T185930
CREATED:20250514T023641Z
LAST-MODIFIED:20250514T025921Z
UID:30339-1747402200-1747409400@elisewitt.com
SUMMARY:CONCERT of Global\, Local & Homemade Songs w/Elise Witt
DESCRIPTION:Fri. May 16\n\n\n\n19.30\n\n\n\nRegistration: Kevino 0495287850 kbzt@skynet.be\n\n\n\n@ Zirk Théâtre: Open Space 15 Chausée de Vleurgat 1050\, Bruxelles \n\n\n\n\n\n\nElise Witt s’est forgée une réputation de pédagoguehors pair\, travaillant aussi bien avec des professionnels qu’avecdes débutants. Lors de ses ateliers de chant communautaires\, elleaccompagne les chanteurs dans un voyage vers le développement de leur confianceet de leur conscience. En jouant avec la mélodie\, le rythme\, le langage\, l’harmonie\,la production vocale et la connexion avec l’âme\, les élèves découvrent\, explorent etdéveloppent leur tessiture et leurs capacités vocales dans une ambiance
URL:https://elisewitt.com/web/calendar/mai16concert/
LOCATION:GA
CATEGORIES:Concerts
ATTACH;FMTTYPE=image/png:https://elisewitt.com/web/wp-content/uploads/2025/05/Screenshot-2025-05-13-at-10.34.05 PM.png
END:VEVENT
END:VCALENDAR