BEGIN:VCALENDAR
VERSION:2.0
PRODID:-//Elise Witt - ECPv6.15.12.2//NONSGML v1.0//EN
CALSCALE:GREGORIAN
METHOD:PUBLISH
X-ORIGINAL-URL:https://elisewitt.com/web
X-WR-CALDESC:Events for Elise Witt
REFRESH-INTERVAL;VALUE=DURATION:PT1H
X-Robots-Tag:noindex
X-PUBLISHED-TTL:PT1H
BEGIN:VTIMEZONE
TZID:America/New_York
BEGIN:DAYLIGHT
TZOFFSETFROM:-0500
TZOFFSETTO:-0400
TZNAME:EDT
DTSTART:20240310T070000
END:DAYLIGHT
BEGIN:STANDARD
TZOFFSETFROM:-0400
TZOFFSETTO:-0500
TZNAME:EST
DTSTART:20241103T060000
END:STANDARD
BEGIN:DAYLIGHT
TZOFFSETFROM:-0500
TZOFFSETTO:-0400
TZNAME:EDT
DTSTART:20250309T070000
END:DAYLIGHT
BEGIN:STANDARD
TZOFFSETFROM:-0400
TZOFFSETTO:-0500
TZNAME:EST
DTSTART:20251102T060000
END:STANDARD
BEGIN:DAYLIGHT
TZOFFSETFROM:-0500
TZOFFSETTO:-0400
TZNAME:EDT
DTSTART:20260308T070000
END:DAYLIGHT
BEGIN:STANDARD
TZOFFSETFROM:-0400
TZOFFSETTO:-0500
TZNAME:EST
DTSTART:20261101T060000
END:STANDARD
END:VTIMEZONE
BEGIN:VEVENT
DTSTART;TZID=America/New_York:20251108T080000
DTEND;TZID=America/New_York:20251108T170000
DTSTAMP:20260421T081103
CREATED:20250515T003843Z
LAST-MODIFIED:20250515T003846Z
UID:30411-1762588800-1762621200@elisewitt.com
SUMMARY:An Impromptu Glorious Chorus™ singing workshop for Atlanta Dance Weekend
DESCRIPTION:Nov. 8th\n\n\n\nAn Impromptu Glorious Chorus™\n\n\n\nat the Atlanta Contra Dance Atlanta Dance Weekend > Learn More \n\n\n\nCalling all Dancing Pirates\, Magicians\, Mermaids\, Vampires\, Elves\, Ogres\, Fairy Princesses\, and Sorcerer’s Apprentices… \n\n\n\nLow Pressure\, High Pleasure Community Singing\n\n\n\nDiscover\, explore\, and expand your natural voice\, with fresh\, physical ways into strengthening your confidence\, clarity\, and listening. Elise teaches in a style so easy that\, before you know it\, the room is in perfect harmony. \n\n\n\nDrawing from her love of diverse melodies and rhythms\, Elise introduces songs from global and local repertoires\, as well as her original songs and in-the-moment improvised creations.All pieces are broken down into easily learnable parts and become thrilling to sing in a group. \n\n\n\nSingers of all abilities\, styles\, and experience are welcome.\n\n\n\nNo music reading required.\n\n\n\n\nRegister at Atlanta Contra Dance
URL:https://elisewitt.com/web/calendar/an-impromptu-glorious-chorus-singing-workshop-for-atlanta-dance-weekend/
LOCATION:GA
CATEGORIES:Concerts
ATTACH;FMTTYPE=image/png:https://elisewitt.com/web/wp-content/uploads/2025/05/ADW2025-SaveTheDate.png
END:VEVENT
END:VCALENDAR