BEGIN:VCALENDAR
VERSION:2.0
PRODID:-//Elise Witt - ECPv6.15.12.2//NONSGML v1.0//EN
CALSCALE:GREGORIAN
METHOD:PUBLISH
X-WR-CALNAME:Elise Witt
X-ORIGINAL-URL:https://elisewitt.com/web
X-WR-CALDESC:Events for Elise Witt
REFRESH-INTERVAL;VALUE=DURATION:PT1H
X-Robots-Tag:noindex
X-PUBLISHED-TTL:PT1H
BEGIN:VTIMEZONE
TZID:America/New_York
BEGIN:DAYLIGHT
TZOFFSETFROM:-0500
TZOFFSETTO:-0400
TZNAME:EDT
DTSTART:20210314T070000
END:DAYLIGHT
BEGIN:STANDARD
TZOFFSETFROM:-0400
TZOFFSETTO:-0500
TZNAME:EST
DTSTART:20211107T060000
END:STANDARD
BEGIN:DAYLIGHT
TZOFFSETFROM:-0500
TZOFFSETTO:-0400
TZNAME:EDT
DTSTART:20220313T070000
END:DAYLIGHT
BEGIN:STANDARD
TZOFFSETFROM:-0400
TZOFFSETTO:-0500
TZNAME:EST
DTSTART:20221106T060000
END:STANDARD
BEGIN:DAYLIGHT
TZOFFSETFROM:-0500
TZOFFSETTO:-0400
TZNAME:EDT
DTSTART:20230312T070000
END:DAYLIGHT
BEGIN:STANDARD
TZOFFSETFROM:-0400
TZOFFSETTO:-0500
TZNAME:EST
DTSTART:20231105T060000
END:STANDARD
END:VTIMEZONE
BEGIN:VEVENT
DTSTART;TZID=America/New_York:20220218T120000
DTEND;TZID=America/New_York:20220218T120000
DTSTAMP:20260425T001725
CREATED:20220215T211519Z
LAST-MODIFIED:20220215T211523Z
UID:23605-1645185600-1645185600@elisewitt.com
SUMMARY:Elise on Daily Antidote of Song
DESCRIPTION:FRI. Feb. 18 @ Noon (Eastern US)\n\n\n\n\n\nDaily Antidote of Song: Making each day better\, one song at a time!\n\n\n\nElise Witt’s concerts of Global\, Local & Homemade Songs™ and her Impromptu Glorious Chorus™ workshops create and connect singing communities around the globe. Elise was born in Switzerland\, raised in North Carolina\, and since 1977 has made her home in Atlanta. She speaks five languages fluently\, sings in at least a dozen more\, and has been a cultural ambassador to South Africa\, Italy\, Nicaragua\, Switzerland\, and China. Elise’s latest CDWe’re All BORN SINGING\, is her 12th recording for EMWorld Records\, and more than twenty of her songs have been arranged for choruses and choirs in the Elise Witt Choral Series. She recently released All Singing: The Elise Witt Songbook\, with 58 original songs in both print and digital versions. Recipient of the William L. Womack Creative Arts Award\, Elise serves as Director of Music Programs at the Global Village Project\, a school for teenage refugee girls in Decatur GA. \n\n\n\nJoin us each day at 12 noon for the inspiration\, connection\, and joy of singing together! Our growing community includes song leaders and participants from across the country and around the world. \n\n\n\n\nhttps://carpediemarts.org/daily-antidote-of-song
URL:https://elisewitt.com/web/calendar/elise-on-daily-antidote-of-song-2/
CATEGORIES:Concerts,Online Performance,Singing Workshops
ATTACH;FMTTYPE=image/png:https://elisewitt.com/web/wp-content/uploads/2022/02/DAS-black-history-feb2022.png
END:VEVENT
BEGIN:VEVENT
DTSTART;TZID=America/New_York:20220219T120000
DTEND;TZID=America/New_York:20220219T120000
DTSTAMP:20260425T001725
CREATED:20220215T212909Z
LAST-MODIFIED:20220215T212938Z
UID:23608-1645272000-1645272000@elisewitt.com
SUMMARY:Elise hosts Daily Antidote of Song with Jacque Howard
DESCRIPTION:SAT. Feb. 19 @ Noon (Eastern US)\n\n\n\n\n\nDaily Antidote of Song: Making each day better\, one song at a time!\n\n\n\nJacqueline Howard is the Director of Ms. Gussie’s Place and Music Specialist\, where she works with music with children with disabilities.  Ms. Gussie’s Place offers hope and restoration children and their families. Ms. Gussie’s place believe that every brain is capable of new growth and change. No matter the condition or diagnosis given\, the brain can change based upon the input and stimulation it receives. \n\n\n\nJoin us each day at 12 noon for the inspiration\, connection\, and joy of singing together! Our growing community includes song leaders and participants from across the country and around the world. \n\n\n\n\nhttps://carpediemarts.org/daily-antidote-of-song
URL:https://elisewitt.com/web/calendar/elise-hosts-daily-antidote-of-song-with-jacque-howard/
CATEGORIES:Concerts,Online Performance,Singing Workshops
ATTACH;FMTTYPE=image/png:https://elisewitt.com/web/wp-content/uploads/2022/02/DAS-black-history-feb2022.png
END:VEVENT
BEGIN:VEVENT
DTSTART;TZID=America/New_York:20220225T193000
DTEND;TZID=America/New_York:20220225T200000
DTSTAMP:20260425T001725
CREATED:20220216T012249Z
LAST-MODIFIED:20220216T012251Z
UID:23611-1645817400-1645819200@elisewitt.com
SUMMARY:Shabbat Service Honoring Gayanne Geurin
DESCRIPTION:Fri. Feb. 25th @ 7:30pm\n\n\n\n\n\n\n\n \n\n\n\nGayanne is a vocal capacity builder\, both of individuals and communities. As a vocal coach\, she combines her background as a psychotherapist to help people ground themselves in their voices and find their unique expression through singing. Gayanne builds community through song by creating organic musical spaces that help participants experience music in new ways and deepen their connections to each other. \n\n\n\nhttps://gayannegeurin.com/ \n\n\n\n \n\n\n\nWe have reached COVID capacity for this special gathering.If you would like to be placed on the waiting list\,please email engagement@cbhatlanta.org.\n\n\n\nThe link for Zoom attendees can be found here.
URL:https://elisewitt.com/web/calendar/shabbat-service-honoring-gayanne-geurin/
CATEGORIES:Concerts,Online Performance
ATTACH;FMTTYPE=image/png:https://elisewitt.com/web/wp-content/uploads/2022/02/ShabbatServiceHonoringGayanne.png
END:VEVENT
END:VCALENDAR