BEGIN:VCALENDAR
VERSION:2.0
PRODID:-//Elise Witt - ECPv6.15.12.2//NONSGML v1.0//EN
CALSCALE:GREGORIAN
METHOD:PUBLISH
X-ORIGINAL-URL:https://elisewitt.com/web
X-WR-CALDESC:Events for Elise Witt
REFRESH-INTERVAL;VALUE=DURATION:PT1H
X-Robots-Tag:noindex
X-PUBLISHED-TTL:PT1H
BEGIN:VTIMEZONE
TZID:America/New_York
BEGIN:DAYLIGHT
TZOFFSETFROM:-0500
TZOFFSETTO:-0400
TZNAME:EDT
DTSTART:20210314T070000
END:DAYLIGHT
BEGIN:STANDARD
TZOFFSETFROM:-0400
TZOFFSETTO:-0500
TZNAME:EST
DTSTART:20211107T060000
END:STANDARD
BEGIN:DAYLIGHT
TZOFFSETFROM:-0500
TZOFFSETTO:-0400
TZNAME:EDT
DTSTART:20220313T070000
END:DAYLIGHT
BEGIN:STANDARD
TZOFFSETFROM:-0400
TZOFFSETTO:-0500
TZNAME:EST
DTSTART:20221106T060000
END:STANDARD
BEGIN:DAYLIGHT
TZOFFSETFROM:-0500
TZOFFSETTO:-0400
TZNAME:EDT
DTSTART:20230312T070000
END:DAYLIGHT
BEGIN:STANDARD
TZOFFSETFROM:-0400
TZOFFSETTO:-0500
TZNAME:EST
DTSTART:20231105T060000
END:STANDARD
END:VTIMEZONE
BEGIN:VEVENT
DTSTART;TZID=America/New_York:20221003T120000
DTEND;TZID=America/New_York:20221003T120000
DTSTAMP:20260424T094317
CREATED:20221005T011110Z
LAST-MODIFIED:20221005T011121Z
UID:26265-1664798400-1664798400@elisewitt.com
SUMMARY:hosting Hank Smith on the Daily Antidote of Song
DESCRIPTION:Daily Antidote of Song: Making each day better\, one song at a time!\n\n\n\nJoin us each day at 12 noon for the inspiration\, connection\, and joy of singing together! Our growing community includes song leaders and participants from across the country and around the world.\n\n\n\nJOIN US IN THE VIRTUAL ROOM \n\n\n\nJOIN US ON FACEBOOK LIVE
URL:https://elisewitt.com/web/calendar/hosting-hank-smith-on-the-daily-antidote-of-song/
LOCATION:online
CATEGORIES:Online Performance
ATTACH;FMTTYPE=image/png:https://elisewitt.com/web/wp-content/uploads/2022/10/Screen-Shot-2022-10-04-at-9.02.12-PM.png
END:VEVENT
BEGIN:VEVENT
DTSTART;TZID=America/New_York:20221008T120000
DTEND;TZID=America/New_York:20221008T120000
DTSTAMP:20260424T094317
CREATED:20221005T011644Z
LAST-MODIFIED:20221005T012122Z
UID:26268-1665230400-1665230400@elisewitt.com
SUMMARY:hosting Marquetta Dupree on Daily Antidote of Song
DESCRIPTION:Daily Antidote of Song: Making each day better\, one song at a time!\n\n\n\nOct. 8th @ 12pm EST\n\n\n\nJoin us each day at 12 noon for the inspiration\, connection\, and joy of singing together! Our growing community includes song leaders and participants from across the country and around the world.\n\n\n\nJOIN US IN THE VIRTUAL ROOM \n\n\n\nJOIN US ON FACEBOOK LIVE
URL:https://elisewitt.com/web/calendar/hosting-marquetta-dupree/
CATEGORIES:Online Performance
ATTACH;FMTTYPE=image/png:https://elisewitt.com/web/wp-content/uploads/2022/10/Screen-Shot-2022-10-04-at-9.15.26-PM.png
END:VEVENT
END:VCALENDAR