BEGIN:VCALENDAR
VERSION:2.0
PRODID:-//Elise Witt - ECPv6.15.12.2//NONSGML v1.0//EN
CALSCALE:GREGORIAN
METHOD:PUBLISH
X-ORIGINAL-URL:https://elisewitt.com/web
X-WR-CALDESC:Events for Elise Witt
REFRESH-INTERVAL;VALUE=DURATION:PT1H
X-Robots-Tag:noindex
X-PUBLISHED-TTL:PT1H
BEGIN:VTIMEZONE
TZID:America/New_York
BEGIN:DAYLIGHT
TZOFFSETFROM:-0500
TZOFFSETTO:-0400
TZNAME:EDT
DTSTART:20210314T070000
END:DAYLIGHT
BEGIN:STANDARD
TZOFFSETFROM:-0400
TZOFFSETTO:-0500
TZNAME:EST
DTSTART:20211107T060000
END:STANDARD
BEGIN:DAYLIGHT
TZOFFSETFROM:-0500
TZOFFSETTO:-0400
TZNAME:EDT
DTSTART:20220313T070000
END:DAYLIGHT
BEGIN:STANDARD
TZOFFSETFROM:-0400
TZOFFSETTO:-0500
TZNAME:EST
DTSTART:20221106T060000
END:STANDARD
BEGIN:DAYLIGHT
TZOFFSETFROM:-0500
TZOFFSETTO:-0400
TZNAME:EDT
DTSTART:20230312T070000
END:DAYLIGHT
BEGIN:STANDARD
TZOFFSETFROM:-0400
TZOFFSETTO:-0500
TZNAME:EST
DTSTART:20231105T060000
END:STANDARD
END:VTIMEZONE
BEGIN:VEVENT
DTSTART;TZID=America/New_York:20221211T120000
DTEND;TZID=America/New_York:20221211T130000
DTSTAMP:20260424T055344
CREATED:20221201T150115Z
LAST-MODIFIED:20221211T134751Z
UID:27071-1670760000-1670763600@elisewitt.com
SUMMARY:Elise hosts on Daily Antidote of Song
DESCRIPTION:Looking forward to hosting some wonderful guests on the Daily Antidote of Song!\n\n\n\nJoin at Noon (Eastern): https://us02web.zoom.us/j/87303995571\n\n\n\nOr on FB anytime: https://www.facebook.com/DailyAntidote\n\n\n\n\n\nThurs. Dec. 1\n\n\n\nCathy Fink & Marcy Marxer\n\n\n\n\n\n\n\n\n\nSun. Dec. 11\n\n\n\nPeggy Seeger\n\n\n\n\n\n\n\n\n\nSun. Dec. 18\n\n\n\nJaka Skapin
URL:https://elisewitt.com/web/calendar/elise-hosts-on-daily-antidote-of-song-12-22/
CATEGORIES:Online Performance
ATTACH;FMTTYPE=image/png:https://elisewitt.com/web/wp-content/uploads/2022/11/daily-antidote-year3.png
END:VEVENT
BEGIN:VEVENT
DTSTART;TZID=America/New_York:20221218T120000
DTEND;TZID=America/New_York:20221218T130000
DTSTAMP:20260424T055344
CREATED:20221211T135659Z
LAST-MODIFIED:20221211T135854Z
UID:27120-1671364800-1671368400@elisewitt.com
SUMMARY:Elise hosts on Daily Antidote of Song
DESCRIPTION:Looking forward to hosting some wonderful guests on the Daily Antidote of Song!\n\n\n\nJoin at Noon (Eastern): https://us02web.zoom.us/j/87303995571\n\n\n\nOr on FB anytime: https://www.facebook.com/DailyAntidote\n\n\n\n\n\nThurs. Dec. 1\n\n\n\nCathy Fink & Marcy Marxer\n\n\n\n\n\n\n\n\n\nSun. Dec. 11\n\n\n\nPeggy Seeger\n\n\n\n\n\n\n\n\n\nSun. Dec. 18\n\n\n\nJaka Skapin
URL:https://elisewitt.com/web/calendar/elise-hosts-on-daily-antidote-of-song/
CATEGORIES:Online Performance
ATTACH;FMTTYPE=image/png:https://elisewitt.com/web/wp-content/uploads/2022/11/daily-antidote-year3.png
END:VEVENT
BEGIN:VEVENT
DTSTART;TZID=America/New_York:20221231T120000
DTEND;TZID=America/New_York:20221231T193000
DTSTAMP:20260424T055344
CREATED:20221217T004500Z
LAST-MODIFIED:20221217T004638Z
UID:27172-1672488000-1672515000@elisewitt.com
SUMMARY:New Years with Daily Antidote of Song Day 1000!
DESCRIPTION:SAT. DEC. 31 \n\n\n\n12:00-1:00pm: Daily Antidote of Song Day 1000! \n\n\n\n3:00-4:30pm: Songs with Friends (including me!) \n\n\n\n6:00-7:30pm: Happy new Year – it’s Midnight Somewhere!  \n\n\n\nJoin live: https://us02web.zoom.us/j/87303995571 \n\n\n\nJoin or view any time on fb: https://www.facebook.com/DailyAntidote
URL:https://elisewitt.com/web/calendar/new-years-with-daily-antidote-of-song-day-1000/
CATEGORIES:Online Performance
ATTACH;FMTTYPE=image/png:https://elisewitt.com/web/wp-content/uploads/2022/12/DAS-Day-1000.png
END:VEVENT
END:VCALENDAR