BEGIN:VCALENDAR
VERSION:2.0
PRODID:-//Elise Witt - ECPv6.15.12.2//NONSGML v1.0//EN
CALSCALE:GREGORIAN
METHOD:PUBLISH
X-ORIGINAL-URL:https://elisewitt.com/web
X-WR-CALDESC:Events for Elise Witt
REFRESH-INTERVAL;VALUE=DURATION:PT1H
X-Robots-Tag:noindex
X-PUBLISHED-TTL:PT1H
BEGIN:VTIMEZONE
TZID:America/New_York
BEGIN:DAYLIGHT
TZOFFSETFROM:-0500
TZOFFSETTO:-0400
TZNAME:EDT
DTSTART:20220313T070000
END:DAYLIGHT
BEGIN:STANDARD
TZOFFSETFROM:-0400
TZOFFSETTO:-0500
TZNAME:EST
DTSTART:20221106T060000
END:STANDARD
BEGIN:DAYLIGHT
TZOFFSETFROM:-0500
TZOFFSETTO:-0400
TZNAME:EDT
DTSTART:20230312T070000
END:DAYLIGHT
BEGIN:STANDARD
TZOFFSETFROM:-0400
TZOFFSETTO:-0500
TZNAME:EST
DTSTART:20231105T060000
END:STANDARD
BEGIN:DAYLIGHT
TZOFFSETFROM:-0500
TZOFFSETTO:-0400
TZNAME:EDT
DTSTART:20240310T070000
END:DAYLIGHT
BEGIN:STANDARD
TZOFFSETFROM:-0400
TZOFFSETTO:-0500
TZNAME:EST
DTSTART:20241103T060000
END:STANDARD
END:VTIMEZONE
BEGIN:VEVENT
DTSTART;TZID=America/New_York:20230205T080000
DTEND;TZID=America/New_York:20230205T170000
DTSTAMP:20260422T075337
CREATED:20230128T190328Z
LAST-MODIFIED:20230128T192425Z
UID:27413-1675584000-1675616400@elisewitt.com
SUMMARY:Elise hosts Fred Onovwerosuoke on Daily Antidote of Song
DESCRIPTION:Looking forward to hosting some wonderful guests on the Daily Antidote of Song!\n\n\n\nDaily Antidote of Song: Making each day better\, one song at a time!  \n\n\n\n\n\n\n\n\n\n\n\nSun. Feb. 5 at Noon EST\n\n\n\nFred Onovwerosuoke\n\n\n\nhttps://www.fredomusic.com/bio \n\n\n\nJoin at Noon (Eastern): https://us02web.zoom.us/j/87303995571\n\n\n\nOr on FB anytime: https://www.facebook.com/DailyAntidote
URL:https://elisewitt.com/web/calendar/elise-hosts-fred-onovwerosuoke-on-daily-antidote-of-song/
CATEGORIES:Online Performance
ATTACH;FMTTYPE=image/png:https://elisewitt.com/web/wp-content/uploads/2023/01/Screen-Shot-2023-01-28-at-1.58.47-PM.png
END:VEVENT
BEGIN:VEVENT
DTSTART;TZID=America/New_York:20230206T120000
DTEND;TZID=America/New_York:20230206T130000
DTSTAMP:20260422T075337
CREATED:20230128T191515Z
LAST-MODIFIED:20230128T193229Z
UID:27419-1675684800-1675688400@elisewitt.com
SUMMARY:Elise hosts Charlie King on Daily Antidote of Song
DESCRIPTION:Looking forward to hosting some wonderful guests on the Daily Antidote of Song!\n\n\n\nDaily Antidote of Song: Making each day better\, one song at a time!  \n\n\n\n\n\n\n\n\n\n\n\nMon. Feb. 6 at Noon EST\n\n\n\nCharlie King\n\n\n\n www.CharlieKing.org \n\n\n\nJoin at Noon (Eastern): https://us02web.zoom.us/j/87303995571\n\n\n\nOr on FB anytime: https://www.facebook.com/DailyAntidote
URL:https://elisewitt.com/web/calendar/elise-hosts-charlie-king-on-daily-antidote-of-song/
CATEGORIES:Online Performance
ATTACH;FMTTYPE=image/png:https://elisewitt.com/web/wp-content/uploads/2023/01/Screen-Shot-2023-01-28-at-2.10.22-PM.png
END:VEVENT
BEGIN:VEVENT
DTSTART;TZID=America/New_York:20230206T193000
DTEND;TZID=America/New_York:20230206T204500
DTSTAMP:20260422T075337
CREATED:20230128T160612Z
LAST-MODIFIED:20230128T161431Z
UID:27385-1675711800-1675716300@elisewitt.com
SUMMARY:4-week Singing for Fun for Everyone ~ Online
DESCRIPTION:4 Monday evenings on Zoom\n\n\n\n7:30 – 8:45 p.m.\n\n\n\nFeb. 6 – 27\n\n\n\n~ online zoom class ~~ limited class size ~ \n\n\n\nUpon registration\, you will receive a link to join\, and a link to a folder with all the music\, including mp3 sound recordings\, lyrics\, and music notation. \n\n\n\nThough we’ve now been able to have occasional live and in person sings\, we are still going strong online\, with ever more fun ways to be together in the virtual space. It’s been lovely having folks from Canada\, Vermont\, California\, Alabama\, Illinois\, Connecticut\, Colorado\, Tennessee\, Michigan\, and Virginia\, join our regular Atlanta crew of singers. And there are so many wonderful new songs to enjoy in this new format. Come join us! \n\n\n\nDiscover\, explore\, and expand your natural voice with Singing for FUN for EVERYONE online. Singers learn songs that explore the vast expression of harmony from around the world.  There are also lots of songs in English\, including songs from the African American tradition\, quirky rounds\, food songs\, Elise originals\, and lots more! Singers of all levels of experience are welcome. \n\n\n\n\n\n\n\nFirst\, Register below: After registering\, you will receive a confirmation email containing information about joining the class. Registration required to receive the Zoom link. \n\n\n\nNext\, after you submit the registration form\, please send in payment. \n\n\n\n\n  \n\n\n\n First and Last Name\n \n \n Your email\n \n \n What is the name of the workshop/ concert you are registering for?\n \n \n What is the date of the workshop/ concert you are registering for?\n \n \n How will you pay?\nOnline via Venmo @Elise-WittOnline via Paypal @EliseWittCash or Check\n \n Your message (optional)\n \n \n[mailpoetsignup mailpoetsignup-278 list:4 list:7 "Join Elise's Newsletter"]\n \n\n \n\n\n\n\n\n\n\n\n\nWorkshop Fees\n\n\n\n\n\nPlease be affordable & generous \n\n\n\nChoose a Payment Option\n\n\n\n1) Venmo to @Elise-Witt ((look for my picture with the flowers to confirm it’s me!) \n\n\n\n2) Paypal to EMWorld Records @EliseWitt (look for my blue logo to confirm its me) \n\n\n\n3) Mail a check to: EMWorld Records\, PO Box 148\, Pine Lake GA 30072 \n\n\n\n4) Check or Cash in person \n\n\n\n\n\n\n\n\n\nThank you so much for an incredible experience.  Your warm and skilled guidance in bringing together … unknown singers was a pleasure. What a wonderful experience! \nPamela \, Chicago
URL:https://elisewitt.com/web/calendar/4-week-singing-for-fun-for-everyone-online/
LOCATION:Zoom\, Online
CATEGORIES:Online Performance,Singing for Fun for Everyone,Singing Workshops
ATTACH;FMTTYPE=image/gif:https://elisewitt.com/web/wp-content/uploads/2022/07/Why-are-you-always-singing.gif
END:VEVENT
BEGIN:VEVENT
DTSTART;TZID=America/New_York:20230209T120000
DTEND;TZID=America/New_York:20230209T130000
DTSTAMP:20260422T075337
CREATED:20230128T192046Z
LAST-MODIFIED:20230128T192048Z
UID:27424-1675944000-1675947600@elisewitt.com
SUMMARY:Elise is hosted by Shruti Vishwanat on Daily Antidote of Song
DESCRIPTION:Looking forward to hosting some wonderful guests on the Daily Antidote of Song!\n\n\n\nDaily Antidote of Song: Making each day better\, one song at a time!  \n\n\n\n\n\nPhoto by Irene Young\n\n\n\n\n\nThurs. Feb. 9 at Noon EST\n\n\n\nwith Shruti Vishwanat\n\n\n\nJoin at Noon (Eastern): https://us02web.zoom.us/j/87303995571\n\n\n\nOr on FB anytime: https://www.facebook.com/DailyAntidote
URL:https://elisewitt.com/web/calendar/elise-is-hosted-by-shruti-vishwanat-on-daily-antidote-of-song/
CATEGORIES:Online Performance
ATTACH;FMTTYPE=image/jpeg:https://elisewitt.com/web/wp-content/uploads/2022/08/Elise-Witt-by-Irene-Young-red-wall-hi-res-02-scaled.jpg
END:VEVENT
BEGIN:VEVENT
DTSTART;TZID=America/New_York:20230213T080000
DTEND;TZID=America/New_York:20230213T170000
DTSTAMP:20260422T075337
CREATED:20230128T193223Z
LAST-MODIFIED:20230128T193229Z
UID:27432-1676275200-1676307600@elisewitt.com
SUMMARY:Elise hosts Gayanne Geurin on Daily Antidote of Song
DESCRIPTION:Looking forward to hosting some wonderful guests on the Daily Antidote of Song!\n\n\n\nDaily Antidote of Song: Making each day better\, one song at a time!  \n\n\n\n\n\n\n\n\n\n\n\nMon. Feb. 13 at Noon EST\n\n\n\nGayanne Geurin\n\n\n\nwww.GayanneGeurin.com \n\n\n\nJoin at Noon (Eastern): https://us02web.zoom.us/j/87303995571\n\n\n\nOr on FB anytime: https://www.facebook.com/DailyAntidote
URL:https://elisewitt.com/web/calendar/elise-hosts-gayanne-geurin-on-daily-antidote-of-song/
CATEGORIES:Online Performance
ATTACH;FMTTYPE=image/png:https://elisewitt.com/web/wp-content/uploads/2023/01/Screen-Shot-2023-01-28-at-2.30.50-PM.png
END:VEVENT
BEGIN:VEVENT
DTSTART;TZID=America/New_York:20230213T193000
DTEND;TZID=America/New_York:20230213T204500
DTSTAMP:20260422T075337
CREATED:20230128T163448Z
LAST-MODIFIED:20230128T163450Z
UID:27394-1676316600-1676321100@elisewitt.com
SUMMARY:4-week Singing for Fun for Everyone ~ Online
DESCRIPTION:4 Monday evenings on Zoom\n\n\n\n7:30 – 8:45 p.m.\n\n\n\nFeb. 6 – 27\n\n\n\n~ online zoom class ~~ limited class size ~ \n\n\n\nUpon registration\, you will receive a link to join\, and a link to a folder with all the music\, including mp3 sound recordings\, lyrics\, and music notation. \n\n\n\nThough we’ve now been able to have occasional live and in person sings\, we are still going strong online\, with ever more fun ways to be together in the virtual space. It’s been lovely having folks from Canada\, Vermont\, California\, Alabama\, Illinois\, Connecticut\, Colorado\, Tennessee\, Michigan\, and Virginia\, join our regular Atlanta crew of singers. And there are so many wonderful new songs to enjoy in this new format. Come join us! \n\n\n\nDiscover\, explore\, and expand your natural voice with Singing for FUN for EVERYONE online. Singers learn songs that explore the vast expression of harmony from around the world.  There are also lots of songs in English\, including songs from the African American tradition\, quirky rounds\, food songs\, Elise originals\, and lots more! Singers of all levels of experience are welcome. \n\n\n\n\n\n\n\nFirst\, Register below: After registering\, you will receive a confirmation email containing information about joining the class. Registration required to receive the Zoom link. \n\n\n\nNext\, after you submit the registration form\, please send in payment. \n\n\n\n\n  \n\n\n\n First and Last Name\n \n \n Your email\n \n \n What is the name of the workshop/ concert you are registering for?\n \n \n What is the date of the workshop/ concert you are registering for?\n \n \n How will you pay?\nOnline via Venmo @Elise-WittOnline via Paypal @EliseWittCash or Check\n \n Your message (optional)\n \n \n[mailpoetsignup mailpoetsignup-278 list:4 list:7 "Join Elise's Newsletter"]\n \n\n \n\n\n\n\n\n\n\n\n\nWorkshop Fees\n\n\n\n\n\nPlease be affordable & generous \n\n\n\nChoose a Payment Option\n\n\n\n1) Venmo to @Elise-Witt ((look for my picture with the flowers to confirm it’s me!) \n\n\n\n2) Paypal to EMWorld Records @EliseWitt (look for my blue logo to confirm its me) \n\n\n\n3) Mail a check to: EMWorld Records\, PO Box 148\, Pine Lake GA 30072 \n\n\n\n4) Check or Cash in person \n\n\n\n\n\n\n\n\n\nThank you so much for an incredible experience.  Your warm and skilled guidance in bringing together … unknown singers was a pleasure. What a wonderful experience! \nPamela \, Chicago
URL:https://elisewitt.com/web/calendar/4-week-singing-for-fun-for-everyone-online-2/
LOCATION:Zoom\, Online
CATEGORIES:Online Performance,Singing for Fun for Everyone,Singing Workshops
ATTACH;FMTTYPE=image/gif:https://elisewitt.com/web/wp-content/uploads/2022/07/Why-are-you-always-singing.gif
END:VEVENT
BEGIN:VEVENT
DTSTART;TZID=America/New_York:20230220T193000
DTEND;TZID=America/New_York:20230220T204500
DTSTAMP:20260422T075337
CREATED:20230128T164048Z
LAST-MODIFIED:20230128T164509Z
UID:27397-1676921400-1676925900@elisewitt.com
SUMMARY:4-week Singing for Fun for Everyone ~ Online
DESCRIPTION:4 Monday evenings on Zoom\n\n\n\n7:30 – 8:45 p.m.\n\n\n\nFeb. 6 – 27\n\n\n\n~ online zoom class ~~ limited class size ~ \n\n\n\nUpon registration\, you will receive a link to join\, and a link to a folder with all the music\, including mp3 sound recordings\, lyrics\, and music notation. \n\n\n\nThough we’ve now been able to have occasional live and in person sings\, we are still going strong online\, with ever more fun ways to be together in the virtual space. It’s been lovely having folks from Canada\, Vermont\, California\, Alabama\, Illinois\, Connecticut\, Colorado\, Tennessee\, Michigan\, and Virginia\, join our regular Atlanta crew of singers. And there are so many wonderful new songs to enjoy in this new format. Come join us! \n\n\n\nDiscover\, explore\, and expand your natural voice with Singing for FUN for EVERYONE online. Singers learn songs that explore the vast expression of harmony from around the world.  There are also lots of songs in English\, including songs from the African American tradition\, quirky rounds\, food songs\, Elise originals\, and lots more! Singers of all levels of experience are welcome. \n\n\n\n\n\n\n\nFirst\, Register below: After registering\, you will receive a confirmation email containing information about joining the class. Registration required to receive the Zoom link. \n\n\n\nNext\, after you submit the registration form\, please send in payment. \n\n\n\n\n  \n\n\n\n First and Last Name\n \n \n Your email\n \n \n What is the name of the workshop/ concert you are registering for?\n \n \n What is the date of the workshop/ concert you are registering for?\n \n \n How will you pay?\nOnline via Venmo @Elise-WittOnline via Paypal @EliseWittCash or Check\n \n Your message (optional)\n \n \n[mailpoetsignup mailpoetsignup-278 list:4 list:7 "Join Elise's Newsletter"]\n \n\n \n\n\n\n\n\n\n\n\n\nWorkshop Fees\n\n\n\n\n\nPlease be affordable & generous \n\n\n\nChoose a Payment Option\n\n\n\n1) Venmo to @Elise-Witt ((look for my picture with the flowers to confirm it’s me!) \n\n\n\n2) Paypal to EMWorld Records @EliseWitt (look for my blue logo to confirm its me) \n\n\n\n3) Mail a check to: EMWorld Records\, PO Box 148\, Pine Lake GA 30072 \n\n\n\n4) Check or Cash in person \n\n\n\n\n\n\n\n\n\nThank you so much for an incredible experience.  Your warm and skilled guidance in bringing together 30+ unknown singers was a pleasure. What a wonderful experience! \nPamela \, Chicago
URL:https://elisewitt.com/web/calendar/4-week-singing-for-fun-for-everyone-online-3/
LOCATION:Zoom\, Online
CATEGORIES:Online Performance,Singing for Fun for Everyone,Singing Workshops
ATTACH;FMTTYPE=image/gif:https://elisewitt.com/web/wp-content/uploads/2022/07/Why-are-you-always-singing.gif
END:VEVENT
BEGIN:VEVENT
DTSTART;TZID=America/New_York:20230227T080000
DTEND;TZID=America/New_York:20230227T170000
DTSTAMP:20260422T075337
CREATED:20230128T164822Z
LAST-MODIFIED:20230128T164829Z
UID:27402-1677484800-1677517200@elisewitt.com
SUMMARY:4-week Singing for Fun for Everyone ~ Online
DESCRIPTION:4 Monday evenings on Zoom\n\n\n\n7:30 – 8:45 p.m.\n\n\n\nFeb. 6 – 27\n\n\n\n~ online zoom class ~~ limited class size ~ \n\n\n\nUpon registration\, you will receive a link to join\, and a link to a folder with all the music\, including mp3 sound recordings\, lyrics\, and music notation. \n\n\n\nThough we’ve now been able to have occasional live and in person sings\, we are still going strong online\, with ever more fun ways to be together in the virtual space. It’s been lovely having folks from Canada\, Vermont\, California\, Alabama\, Illinois\, Connecticut\, Colorado\, Tennessee\, Michigan\, and Virginia\, join our regular Atlanta crew of singers. And there are so many wonderful new songs to enjoy in this new format. Come join us! \n\n\n\nDiscover\, explore\, and expand your natural voice with Singing for FUN for EVERYONE online. Singers learn songs that explore the vast expression of harmony from around the world.  There are also lots of songs in English\, including songs from the African American tradition\, quirky rounds\, food songs\, Elise originals\, and lots more! Singers of all levels of experience are welcome. \n\n\n\n\n\n\n\nFirst\, Register below: After registering\, you will receive a confirmation email containing information about joining the class. Registration required to receive the Zoom link. \n\n\n\nNext\, after you submit the registration form\, please send in payment. \n\n\n\n\n  \n\n\n\n First and Last Name\n \n \n Your email\n \n \n What is the name of the workshop/ concert you are registering for?\n \n \n What is the date of the workshop/ concert you are registering for?\n \n \n How will you pay?\nOnline via Venmo @Elise-WittOnline via Paypal @EliseWittCash or Check\n \n Your message (optional)\n \n \n[mailpoetsignup mailpoetsignup-278 list:4 list:7 "Join Elise's Newsletter"]\n \n\n \n\n\n\n\n\n\n\n\n\nWorkshop Fees\n\n\n\n\n\nPlease be affordable & generous \n\n\n\nChoose a Payment Option\n\n\n\n1) Venmo to @Elise-Witt ((look for my picture with the flowers to confirm it’s me!) \n\n\n\n2) Paypal to EMWorld Records @EliseWitt (look for my blue logo to confirm its me) \n\n\n\n3) Mail a check to: EMWorld Records\, PO Box 148\, Pine Lake GA 30072 \n\n\n\n4) Check or Cash in person \n\n\n\n\n\n\n\n\n\nThank you so much for an incredible experience.  Your warm and skilled guidance in bringing together 30+ unknown singers was a pleasure. What a wonderful experience! \nPamela \, Chicago
URL:https://elisewitt.com/web/calendar/4-week-singing-for-fun-for-everyone-online-4/
LOCATION:Zoom\, Online
CATEGORIES:Online Performance,Singing for Fun for Everyone,Singing Workshops
ATTACH;FMTTYPE=image/gif:https://elisewitt.com/web/wp-content/uploads/2022/07/Why-are-you-always-singing.gif
END:VEVENT
END:VCALENDAR