BEGIN:VCALENDAR
VERSION:2.0
PRODID:-//Elise Witt - ECPv6.15.12.2//NONSGML v1.0//EN
CALSCALE:GREGORIAN
METHOD:PUBLISH
X-ORIGINAL-URL:https://elisewitt.com/web
X-WR-CALDESC:Events for Elise Witt
REFRESH-INTERVAL;VALUE=DURATION:PT1H
X-Robots-Tag:noindex
X-PUBLISHED-TTL:PT1H
BEGIN:VTIMEZONE
TZID:America/New_York
BEGIN:DAYLIGHT
TZOFFSETFROM:-0500
TZOFFSETTO:-0400
TZNAME:EDT
DTSTART:20220313T070000
END:DAYLIGHT
BEGIN:STANDARD
TZOFFSETFROM:-0400
TZOFFSETTO:-0500
TZNAME:EST
DTSTART:20221106T060000
END:STANDARD
BEGIN:DAYLIGHT
TZOFFSETFROM:-0500
TZOFFSETTO:-0400
TZNAME:EDT
DTSTART:20230312T070000
END:DAYLIGHT
BEGIN:STANDARD
TZOFFSETFROM:-0400
TZOFFSETTO:-0500
TZNAME:EST
DTSTART:20231105T060000
END:STANDARD
BEGIN:DAYLIGHT
TZOFFSETFROM:-0500
TZOFFSETTO:-0400
TZNAME:EDT
DTSTART:20240310T070000
END:DAYLIGHT
BEGIN:STANDARD
TZOFFSETFROM:-0400
TZOFFSETTO:-0500
TZNAME:EST
DTSTART:20241103T060000
END:STANDARD
END:VTIMEZONE
BEGIN:VEVENT
DTSTART;TZID=America/New_York:20230501T120000
DTEND;TZID=America/New_York:20230501T130000
DTSTAMP:20260422T021217
CREATED:20230403T221304Z
LAST-MODIFIED:20230403T221309Z
UID:27777-1682942400-1682946000@elisewitt.com
SUMMARY:Elise hosts Billy Jonas on the Daily Antidote of Song
DESCRIPTION:Daily Antidote of Song: Making each day better\, one song at a time!\n\n\n\nMay. 1st @ 12pm EST\n\n\n\n\n\n\nFor over thirty years\, Billy Jonas — performer\, singer-songwriter\, composer\, multi-instrumentalist\, and educator — has perfected the art of the neo-tribal hootenanny* with audiences around the globe. Using voice\, guitar\, and industrial re-percussion\,* each concert is a soul-spelunking\, heart healing\, joy-filled journey. \n\n\n\nJoin us each day at 12 noon for the inspiration\, connection\, and joy of singing together! Our growing community includes song leaders and participants from across the country and around the world.\n\n\n\nJOIN US IN THE VIRTUAL ROOM\n\n\n\nJOIN US ON FACEBOOK LIVE
URL:https://elisewitt.com/web/calendar/elise-hosts-billy-jonas-on-das/
CATEGORIES:Online Performance
ATTACH;FMTTYPE=image/png:https://elisewitt.com/web/wp-content/uploads/2023/04/Screen-Shot-2023-04-03-at-6.11.05-PM.png
END:VEVENT
BEGIN:VEVENT
DTSTART;TZID=America/New_York:20230501T193000
DTEND;TZID=America/New_York:20230501T204500
DTSTAMP:20260422T021217
CREATED:20230410T211753Z
LAST-MODIFIED:20230410T211946Z
UID:27805-1682969400-1682973900@elisewitt.com
SUMMARY:Singing for Fun for Everyone ~4 Week Series (week 1 of 4) ~ Online
DESCRIPTION:4 Monday evenings on Zoom\n\n\n\n7:30 – 8:45 p.m.\n\n\n\nMay 1 – 22\n\n\n\n~ online zoom class ~ limited class size ~ \n\n\n\nUpon registration\, you will receive a link to join\, and a link to a folder with all the music\, including mp3 sound recordings\, lyrics\, and music notation. \n\n\n\nThough we’ve now been able to have occasional live and in person sings\, we are still going strong online\, with ever more fun ways to be together in the virtual space. It’s been lovely having folks from Canada\, Vermont\, California\, Alabama\, Illinois\, Connecticut\, Colorado\, Tennessee\, Michigan\, and Virginia\, join our regular Atlanta crew of singers. And there are so many wonderful new songs to enjoy in this new format. Come join us! \n\n\n\nDiscover\, explore\, and expand your natural voice with Singing for FUN for EVERYONE online. Singers learn songs that explore the vast expression of harmony from around the world.  There are also lots of songs in English\, including songs from the African American tradition\, quirky rounds\, food songs\, Elise originals\, and lots more! Singers of all levels of experience are welcome. \n\n\n\n\n\n\n\nFirst\, Register below: After registering\, you will receive a confirmation email containing information about joining the class. Registration required to receive the Zoom link. \n\n\n\nNext\, after you submit the registration form\, please send in payment. \n\n\n\n\n  \n\n\n\n First and Last Name\n \n \n Your email\n \n \n What is the name of the workshop/ concert you are registering for?\n \n \n What is the date of the workshop/ concert you are registering for?\n \n \n How will you pay?\nOnline via Venmo @Elise-WittOnline via Paypal @EliseWittCash or Check\n \n Your message (optional)\n \n \n[mailpoetsignup mailpoetsignup-278 list:4 list:7 "Join Elise's Newsletter"]\n \n\n \n\n\n\n\n\n\n\n\n\nWorkshop Fees\n\n\n\n\n\nPlease be affordable & generous \n\n\n\nChoose a Payment Option\n\n\n\n1) Venmo to @Elise-Witt ((look for my picture with the flowers to confirm it’s me!) \n\n\n\n2) Paypal to EMWorld Records @EliseWitt (look for my blue logo to confirm its me) \n\n\n\n3) Mail a check to: EMWorld Records\, PO Box 148\, Pine Lake GA 30072 \n\n\n\n4) Check or Cash in person \n\n\n\n\n\n\n\nThank you so much for an incredible experience.  Your warm and skilled guidance in bringing together 30+ unknown singers was a pleasure. What a wonderful experience! \nPamela \, Chicago
URL:https://elisewitt.com/web/calendar/singing-for-fun-for-everyone-may0123/
CATEGORIES:Online Performance,Singing for Fun for Everyone,Singing Workshops
ATTACH;FMTTYPE=image/jpeg:https://elisewitt.com/web/wp-content/uploads/2023/02/Lilikoi-Passion-Flower-photo-by-Susan-Lachmann.jpg
END:VEVENT
BEGIN:VEVENT
DTSTART;TZID=America/New_York:20230508T193000
DTEND;TZID=America/New_York:20230508T204500
DTSTAMP:20260422T021217
CREATED:20230410T212247Z
LAST-MODIFIED:20230410T212251Z
UID:27808-1683574200-1683578700@elisewitt.com
SUMMARY:Singing for Fun for Everyone ~4 Week Series (week 2 of 4) ~ Online
DESCRIPTION:4 Monday evenings on Zoom\n\n\n\n7:30 – 8:45 p.m.\n\n\n\nMay 1 – 22\n\n\n\n~ online zoom class ~ limited class size ~ \n\n\n\nUpon registration\, you will receive a link to join\, and a link to a folder with all the music\, including mp3 sound recordings\, lyrics\, and music notation. \n\n\n\nThough we’ve now been able to have occasional live and in person sings\, we are still going strong online\, with ever more fun ways to be together in the virtual space. It’s been lovely having folks from Canada\, Vermont\, California\, Alabama\, Illinois\, Connecticut\, Colorado\, Tennessee\, Michigan\, and Virginia\, join our regular Atlanta crew of singers. And there are so many wonderful new songs to enjoy in this new format. Come join us! \n\n\n\nDiscover\, explore\, and expand your natural voice with Singing for FUN for EVERYONE online. Singers learn songs that explore the vast expression of harmony from around the world.  There are also lots of songs in English\, including songs from the African American tradition\, quirky rounds\, food songs\, Elise originals\, and lots more! Singers of all levels of experience are welcome. \n\n\n\n\n\n\n\nFirst\, Register below: After registering\, you will receive a confirmation email containing information about joining the class. Registration required to receive the Zoom link. \n\n\n\nNext\, after you submit the registration form\, please send in payment. \n\n\n\n\n  \n\n\n\n First and Last Name\n \n \n Your email\n \n \n What is the name of the workshop/ concert you are registering for?\n \n \n What is the date of the workshop/ concert you are registering for?\n \n \n How will you pay?\nOnline via Venmo @Elise-WittOnline via Paypal @EliseWittCash or Check\n \n Your message (optional)\n \n \n[mailpoetsignup mailpoetsignup-278 list:4 list:7 "Join Elise's Newsletter"]\n \n\n \n\n\n\n\n\n\n\n\n\nWorkshop Fees\n\n\n\n\n\nPlease be affordable & generous \n\n\n\nChoose a Payment Option\n\n\n\n1) Venmo to @Elise-Witt ((look for my picture with the flowers to confirm it’s me!) \n\n\n\n2) Paypal to EMWorld Records @EliseWitt (look for my blue logo to confirm its me) \n\n\n\n3) Mail a check to: EMWorld Records\, PO Box 148\, Pine Lake GA 30072 \n\n\n\n4) Check or Cash in person \n\n\n\n\n\n\n\nThank you so much for an incredible experience.  Your warm and skilled guidance in bringing together 30+ unknown singers was a pleasure. What a wonderful experience! \nPamela \, Chicago
URL:https://elisewitt.com/web/calendar/singing-for-fun-for-everyone-may823/
CATEGORIES:Online Performance,Singing for Fun for Everyone,Singing Workshops
ATTACH;FMTTYPE=image/jpeg:https://elisewitt.com/web/wp-content/uploads/2023/02/Lilikoi-Passion-Flower-photo-by-Susan-Lachmann.jpg
END:VEVENT
BEGIN:VEVENT
DTSTART;TZID=America/New_York:20230515T193000
DTEND;TZID=America/New_York:20230515T204500
DTSTAMP:20260422T021217
CREATED:20230410T212558Z
LAST-MODIFIED:20230410T212601Z
UID:27810-1684179000-1684183500@elisewitt.com
SUMMARY:Singing for Fun for Everyone ~4 Week Series (week 3 of 4) ~ Online
DESCRIPTION:4 Monday evenings on Zoom\n\n\n\n7:30 – 8:45 p.m.\n\n\n\nMay 1 – 22\n\n\n\n~ online zoom class ~ limited class size ~ \n\n\n\nUpon registration\, you will receive a link to join\, and a link to a folder with all the music\, including mp3 sound recordings\, lyrics\, and music notation. \n\n\n\nThough we’ve now been able to have occasional live and in person sings\, we are still going strong online\, with ever more fun ways to be together in the virtual space. It’s been lovely having folks from Canada\, Vermont\, California\, Alabama\, Illinois\, Connecticut\, Colorado\, Tennessee\, Michigan\, and Virginia\, join our regular Atlanta crew of singers. And there are so many wonderful new songs to enjoy in this new format. Come join us! \n\n\n\nDiscover\, explore\, and expand your natural voice with Singing for FUN for EVERYONE online. Singers learn songs that explore the vast expression of harmony from around the world.  There are also lots of songs in English\, including songs from the African American tradition\, quirky rounds\, food songs\, Elise originals\, and lots more! Singers of all levels of experience are welcome. \n\n\n\n\n\n\n\nFirst\, Register below: After registering\, you will receive a confirmation email containing information about joining the class. Registration required to receive the Zoom link. \n\n\n\nNext\, after you submit the registration form\, please send in payment. \n\n\n\n\n  \n\n\n\n First and Last Name\n \n \n Your email\n \n \n What is the name of the workshop/ concert you are registering for?\n \n \n What is the date of the workshop/ concert you are registering for?\n \n \n How will you pay?\nOnline via Venmo @Elise-WittOnline via Paypal @EliseWittCash or Check\n \n Your message (optional)\n \n \n[mailpoetsignup mailpoetsignup-278 list:4 list:7 "Join Elise's Newsletter"]\n \n\n \n\n\n\n\n\n\n\n\n\nWorkshop Fees\n\n\n\n\n\nPlease be affordable & generous \n\n\n\nChoose a Payment Option\n\n\n\n1) Venmo to @Elise-Witt ((look for my picture with the flowers to confirm it’s me!) \n\n\n\n2) Paypal to EMWorld Records @EliseWitt (look for my blue logo to confirm its me) \n\n\n\n3) Mail a check to: EMWorld Records\, PO Box 148\, Pine Lake GA 30072 \n\n\n\n4) Check or Cash in person \n\n\n\n\n\n\n\nThank you so much for an incredible experience.  Your warm and skilled guidance in bringing together 30+ unknown singers was a pleasure. What a wonderful experience! \nPamela \, Chicago
URL:https://elisewitt.com/web/calendar/singing-for-fun-for-everyone-may1523/
CATEGORIES:Online Performance,Singing for Fun for Everyone,Singing Workshops
ATTACH;FMTTYPE=image/jpeg:https://elisewitt.com/web/wp-content/uploads/2023/02/Lilikoi-Passion-Flower-photo-by-Susan-Lachmann.jpg
END:VEVENT
BEGIN:VEVENT
DTSTART;TZID=America/New_York:20230522T193000
DTEND;TZID=America/New_York:20230522T204500
DTSTAMP:20260422T021217
CREATED:20230410T212820Z
LAST-MODIFIED:20230410T212822Z
UID:27812-1684783800-1684788300@elisewitt.com
SUMMARY:Singing for Fun for Everyone ~4 Week Series (week 4 of 4) ~ Online
DESCRIPTION:4 Monday evenings on Zoom\n\n\n\n7:30 – 8:45 p.m.\n\n\n\nMay 1 – 22\n\n\n\n~ online zoom class ~ limited class size ~ \n\n\n\nUpon registration\, you will receive a link to join\, and a link to a folder with all the music\, including mp3 sound recordings\, lyrics\, and music notation. \n\n\n\nThough we’ve now been able to have occasional live and in person sings\, we are still going strong online\, with ever more fun ways to be together in the virtual space. It’s been lovely having folks from Canada\, Vermont\, California\, Alabama\, Illinois\, Connecticut\, Colorado\, Tennessee\, Michigan\, and Virginia\, join our regular Atlanta crew of singers. And there are so many wonderful new songs to enjoy in this new format. Come join us! \n\n\n\nDiscover\, explore\, and expand your natural voice with Singing for FUN for EVERYONE online. Singers learn songs that explore the vast expression of harmony from around the world.  There are also lots of songs in English\, including songs from the African American tradition\, quirky rounds\, food songs\, Elise originals\, and lots more! Singers of all levels of experience are welcome. \n\n\n\n\n\n\n\nFirst\, Register below: After registering\, you will receive a confirmation email containing information about joining the class. Registration required to receive the Zoom link. \n\n\n\nNext\, after you submit the registration form\, please send in payment. \n\n\n\n\n  \n\n\n\n First and Last Name\n \n \n Your email\n \n \n What is the name of the workshop/ concert you are registering for?\n \n \n What is the date of the workshop/ concert you are registering for?\n \n \n How will you pay?\nOnline via Venmo @Elise-WittOnline via Paypal @EliseWittCash or Check\n \n Your message (optional)\n \n \n[mailpoetsignup mailpoetsignup-278 list:4 list:7 "Join Elise's Newsletter"]\n \n\n \n\n\n\n\n\n\n\n\n\nWorkshop Fees\n\n\n\n\n\nPlease be affordable & generous \n\n\n\nChoose a Payment Option\n\n\n\n1) Venmo to @Elise-Witt ((look for my picture with the flowers to confirm it’s me!) \n\n\n\n2) Paypal to EMWorld Records @EliseWitt (look for my blue logo to confirm its me) \n\n\n\n3) Mail a check to: EMWorld Records\, PO Box 148\, Pine Lake GA 30072 \n\n\n\n4) Check or Cash in person \n\n\n\n\n\n\n\nThank you so much for an incredible experience.  Your warm and skilled guidance in bringing together 30+ unknown singers was a pleasure. What a wonderful experience! \nPamela \, Chicago
URL:https://elisewitt.com/web/calendar/singing-for-fun-for-everyone-4-week-series-week-4-of-4-online/
CATEGORIES:Online Performance,Singing for Fun for Everyone,Singing Workshops
ATTACH;FMTTYPE=image/jpeg:https://elisewitt.com/web/wp-content/uploads/2023/02/Lilikoi-Passion-Flower-photo-by-Susan-Lachmann.jpg
END:VEVENT
END:VCALENDAR