BEGIN:VCALENDAR
VERSION:2.0
PRODID:-//Elise Witt - ECPv6.15.12.2//NONSGML v1.0//EN
CALSCALE:GREGORIAN
METHOD:PUBLISH
X-WR-CALNAME:Elise Witt
X-ORIGINAL-URL:https://elisewitt.com/web
X-WR-CALDESC:Events for Elise Witt
REFRESH-INTERVAL;VALUE=DURATION:PT1H
X-Robots-Tag:noindex
X-PUBLISHED-TTL:PT1H
BEGIN:VTIMEZONE
TZID:America/New_York
BEGIN:DAYLIGHT
TZOFFSETFROM:-0500
TZOFFSETTO:-0400
TZNAME:EDT
DTSTART:20220313T070000
END:DAYLIGHT
BEGIN:STANDARD
TZOFFSETFROM:-0400
TZOFFSETTO:-0500
TZNAME:EST
DTSTART:20221106T060000
END:STANDARD
BEGIN:DAYLIGHT
TZOFFSETFROM:-0500
TZOFFSETTO:-0400
TZNAME:EDT
DTSTART:20230312T070000
END:DAYLIGHT
BEGIN:STANDARD
TZOFFSETFROM:-0400
TZOFFSETTO:-0500
TZNAME:EST
DTSTART:20231105T060000
END:STANDARD
BEGIN:DAYLIGHT
TZOFFSETFROM:-0500
TZOFFSETTO:-0400
TZNAME:EDT
DTSTART:20240310T070000
END:DAYLIGHT
BEGIN:STANDARD
TZOFFSETFROM:-0400
TZOFFSETTO:-0500
TZNAME:EST
DTSTART:20241103T060000
END:STANDARD
END:VTIMEZONE
BEGIN:VEVENT
DTSTART;TZID=America/New_York:20230626T120000
DTEND;TZID=America/New_York:20230626T130000
DTSTAMP:20260422T002047
CREATED:20230403T221729Z
LAST-MODIFIED:20230403T221731Z
UID:27780-1687780800-1687784400@elisewitt.com
SUMMARY:Elise hosts Jaka Škapin on the Daily Antidote of Song
DESCRIPTION:Daily Antidote of Song: Making each day better\, one song at a time!\n\n\n\nJune. 26th @ 12pm EST\n\n\n\n\n\n\nJaka Škapin is a Slovenian transdisciplinary performance artist\, composer and vocal improviser based in London.  His sound is marked by meditative and expansive vocal tapestries that emerge spontaneously from both my movement and voice\, bearing the mark of my choral background\, jazz training and Slavic heritage. \n\n\n\nJoin us each day at 12 noon for the inspiration\, connection\, and joy of singing together! Our growing community includes song leaders and participants from across the country and around the world.\n\n\n\nJOIN US IN THE VIRTUAL ROOM\n\n\n\nJOIN US ON FACEBOOK LIVE
URL:https://elisewitt.com/web/calendar/elise-hosts-jaka-skapin-on-the-daily-antidote-of-song/
CATEGORIES:Online Performance
ATTACH;FMTTYPE=image/png:https://elisewitt.com/web/wp-content/uploads/2023/04/Screen-Shot-2023-04-03-at-6.16.15-PM.png
END:VEVENT
BEGIN:VEVENT
DTSTART;TZID=America/New_York:20230627T120000
DTEND;TZID=America/New_York:20230627T130000
DTSTAMP:20260422T002047
CREATED:20230620T232434Z
LAST-MODIFIED:20230621T233144Z
UID:28042-1687867200-1687870800@elisewitt.com
SUMMARY:Mick Kinney on DAS
DESCRIPTION:Daily Antidote of Song: Making each day better\, one song at a time!\n\n\n\nTues. June 27 @ 12pm EST\n\n\n\n\n\n\nMick’s original songs display a fondness for the word craft of Ira Gershwin and Cole Porter\, and he is equally at home in styles as far ranging as the gritty folk music of Tom Waits\, Bob Dylan\, and Woody Guthrie\, and the roots old time of the Carter Family and the Georgia Skillet Lickers. His vocal personas are reminiscent of the wistful crooning of Rudy Vallee and the soulful growl of Satchmo. A lifelong admirer of Fats Waller\, Charlie Chaplin\, and music hall singer Harry Lauder\, Mick’s delivery demonstrates his affinity for pathos and humoresque. \n\n\n\nThe piano compositions of Mick Kinney are grounded in the early 20th century Ragtime of Joplin and Lamb\, yet incorporate numerous influences of other genres into a genuine pan-American style. Not unlike current Terra Verde pianists\, or their antecedents such as Gottschalk\, Nazareth\, and Jelly Roll Morton\, Kinney’s pieces could well have been written in the Romantic Period. His approach is more hemispheric than provincial\, making frequent use of Habenera and Tango motifs\, while drawing from the manifold sources of his own career catalogue. \n\n\n\nIn addition to his inimitable stage presence\, Mick is also a beloved teacher of fiddle\, piano\, guitar\, banjo\, and music theory in his home of Atlanta and at workshops around the country and abroad. He has been on the staff at prestigious music camps like the Swannanoa Gathering\, Florida Rhapsody\, the Georgia Folk Festival\, Alabama Folk Life\, Nashville’s Breakin’ Up Winter\, and has also taught American Roots music on tour in Italy to great acclaim (both for his musicality\, and for his communication in Italo-Fren-Spanglish!) \n\n\n\nA recipient of the Georgia Council for the Arts Folklife Grant\, Mick was a longtime collaborator with Georgia music legend Stranger Malone\, whose music he continues to preserve and perform. Mick now serves as roots music consultant for the Georgia Humanities Council\, and has produced numerous events celebrating Georgia’s rich musical heritage from the Appalachian mountains to the coastal plains. \n\n\n\nJoin us each day at 12 noon for the inspiration\, connection\, and joy of singing together! Our growing community includes song leaders and participants from across the country and around the world.\n\n\n\nhttps://carpediemarts.org/daily-antidote-of-song
URL:https://elisewitt.com/web/calendar/mick-kinney-on-das/
CATEGORIES:Online Performance
ATTACH;FMTTYPE=image/jpeg:https://elisewitt.com/web/wp-content/uploads/2014/06/Mick-fiddle-photo-by-Vincent-Tseng.jpg
END:VEVENT
BEGIN:VEVENT
DTSTART;TZID=America/New_York:20230630T120000
DTEND;TZID=America/New_York:20230630T130000
DTSTAMP:20260422T002047
CREATED:20230621T232605Z
LAST-MODIFIED:20230621T232634Z
UID:28051-1688126400-1688130000@elisewitt.com
SUMMARY:Maria Valentina on DAS
DESCRIPTION:Daily Antidote of Song: Making each day better\, one song at a time!\n\n\n\nJune 30 @ 12pm EST\n\n\n\nJoin us each day at 12 noon for the inspiration\, connection\, and joy of singing together! Our growing community includes song leaders and participants from across the country and around the world. \n\n\n\nhttps://carpediemarts.org/daily-antidote-of-song
URL:https://elisewitt.com/web/calendar/maria-valentina-on-das/
CATEGORIES:Online Performance
ATTACH;FMTTYPE=image/png:https://elisewitt.com/web/wp-content/uploads/2021/10/daily-antidote-03-sml.png
END:VEVENT
END:VCALENDAR