BEGIN:VCALENDAR
VERSION:2.0
PRODID:-//Elise Witt - ECPv6.15.12.2//NONSGML v1.0//EN
CALSCALE:GREGORIAN
METHOD:PUBLISH
X-WR-CALNAME:Elise Witt
X-ORIGINAL-URL:https://elisewitt.com/web
X-WR-CALDESC:Events for Elise Witt
REFRESH-INTERVAL;VALUE=DURATION:PT1H
X-Robots-Tag:noindex
X-PUBLISHED-TTL:PT1H
BEGIN:VTIMEZONE
TZID:America/New_York
BEGIN:DAYLIGHT
TZOFFSETFROM:-0500
TZOFFSETTO:-0400
TZNAME:EDT
DTSTART:20220313T070000
END:DAYLIGHT
BEGIN:STANDARD
TZOFFSETFROM:-0400
TZOFFSETTO:-0500
TZNAME:EST
DTSTART:20221106T060000
END:STANDARD
BEGIN:DAYLIGHT
TZOFFSETFROM:-0500
TZOFFSETTO:-0400
TZNAME:EDT
DTSTART:20230312T070000
END:DAYLIGHT
BEGIN:STANDARD
TZOFFSETFROM:-0400
TZOFFSETTO:-0500
TZNAME:EST
DTSTART:20231105T060000
END:STANDARD
BEGIN:DAYLIGHT
TZOFFSETFROM:-0500
TZOFFSETTO:-0400
TZNAME:EDT
DTSTART:20240310T070000
END:DAYLIGHT
BEGIN:STANDARD
TZOFFSETFROM:-0400
TZOFFSETTO:-0500
TZNAME:EST
DTSTART:20241103T060000
END:STANDARD
END:VTIMEZONE
BEGIN:VEVENT
DTSTART;TZID=America/New_York:20231009T120000
DTEND;TZID=America/New_York:20231009T123000
DTSTAMP:20260421T171054
CREATED:20230924T182433Z
LAST-MODIFIED:20230924T182834Z
UID:28298-1696852800-1696854600@elisewitt.com
SUMMARY:Elise hosts Mary Flower on the Daily Antidote of Song
DESCRIPTION:Mon. Oct. 9\n\n\n\n12:00 – 12:30 p.m. \n\n\n\nFlower is a renowned guitar instructor\, teaching at music camps and festivals\, offering lessons online and in person\, and frequently crafting articles and tips as a regular contributor to Acoustic Guitar. But she cannot be narrowly defined. Livin’ with the Blues Again showcases her talents as a complete artist\, deeply versed in an array of vernacular styles for which she demonstrates an abiding love that underlies her quietly jaw-dropping technique. She may not sing with the soulful grit and urgency of Rory Block\, Maria Muldaur\, or Bonnie Raitt\, but her stylistic range is broader\, approaching that of David Bromberg or Ry Cooder. What fun for those who don’t know her music to discover her here.—Acoustic Guitar Magazine \n\n\n\nDaily Antidote of Song: Making each day better\, one song at a time! \n\n\n\nSinging together for 1000+ days! Join us every day at 12 noon ET for inspiration\, connection\, and the joy of singing! Our song leaders\, hosts\, and participants come from across the country and around the world.  \n\n\nhttps://carpediemarts.org/daily-antidote-of-song: Singing for Fun for Everyone  ~ Online – Jan Series 4 of 4
URL:https://elisewitt.com/web/calendar/elise-hosts-mary-flower-das-oct923/
LOCATION:Zoom\, Online
CATEGORIES:Online Performance
ATTACH;FMTTYPE=image/png:https://elisewitt.com/web/wp-content/uploads/2023/09/Screenshot-2023-09-24-at-2.23.17-PM.png
END:VEVENT
END:VCALENDAR