BEGIN:VCALENDAR
VERSION:2.0
PRODID:-//Elise Witt - ECPv6.15.12.2//NONSGML v1.0//EN
CALSCALE:GREGORIAN
METHOD:PUBLISH
X-ORIGINAL-URL:https://elisewitt.com/web
X-WR-CALDESC:Events for Elise Witt
REFRESH-INTERVAL;VALUE=DURATION:PT1H
X-Robots-Tag:noindex
X-PUBLISHED-TTL:PT1H
BEGIN:VTIMEZONE
TZID:America/New_York
BEGIN:DAYLIGHT
TZOFFSETFROM:-0500
TZOFFSETTO:-0400
TZNAME:EDT
DTSTART:20230312T070000
END:DAYLIGHT
BEGIN:STANDARD
TZOFFSETFROM:-0400
TZOFFSETTO:-0500
TZNAME:EST
DTSTART:20231105T060000
END:STANDARD
BEGIN:DAYLIGHT
TZOFFSETFROM:-0500
TZOFFSETTO:-0400
TZNAME:EDT
DTSTART:20240310T070000
END:DAYLIGHT
BEGIN:STANDARD
TZOFFSETFROM:-0400
TZOFFSETTO:-0500
TZNAME:EST
DTSTART:20241103T060000
END:STANDARD
BEGIN:DAYLIGHT
TZOFFSETFROM:-0500
TZOFFSETTO:-0400
TZNAME:EDT
DTSTART:20250309T070000
END:DAYLIGHT
BEGIN:STANDARD
TZOFFSETFROM:-0400
TZOFFSETTO:-0500
TZNAME:EST
DTSTART:20251102T060000
END:STANDARD
END:VTIMEZONE
BEGIN:VEVENT
DTSTART;TZID=America/New_York:20240310T120000
DTEND;TZID=America/New_York:20240310T123000
DTSTAMP:20260421T073741
CREATED:20240313T174150Z
LAST-MODIFIED:20240313T174152Z
UID:28874-1710072000-1710073800@elisewitt.com
SUMMARY:Elise hosts Rebekka Goldsmith on the Daily Antidote of Song
DESCRIPTION:MAR. 10\n\n\n\n12:00 – 12:30 p.m. \n\n\n\nRebekka is most fully alive when she sings with people and has made it her life’s work to reconnect people to their own voices. Rebekka believes in the sacred and liberatory potential of the voice and the transformational power of people singing together.  \n\n\n\nRebekka leads prayer and Jewish song\, directs community choirs\, facilitates vocal improvisation retreats and works privately with individual clients.  In each setting\, she encourages free expression of sound to engage the hearts\, minds and bodies of everyone she works with.  \n\n\n\nWhen you work with Rebekka\, you can expect a playful\, tuned-in process\, deep listening\, creative exploration and growth. She’ll invite you to be curious\, courageous\, vulnerable and real. \n\n\n\nDaily Antidote of Song: Making each day better\, one song at a time! \n\n\n\nSinging together for 1000+ days! Join us every day at 12 noon ET for inspiration\, connection\, and the joy of singing! Our song leaders\, hosts\, and participants come from across the country and around the world.  \n\n\n\nJOIN US IN THE VIRTUAL ROOM AT NOON EASTERN \n\n\n\nJOIN US LIVE (OR SING ALONG ANYTIME) ON YOUTUBE! \n\n\n\nhttps://carpediemarts.org/daily-antidote-of-song
URL:https://elisewitt.com/web/calendar/elise-hosts-rebekka-goldsmith-031024/
CATEGORIES:Online Performance
ATTACH;FMTTYPE=image/png:https://elisewitt.com/web/wp-content/uploads/2021/10/daily-antidote-03-sml.png
END:VEVENT
BEGIN:VEVENT
DTSTART;TZID=America/New_York:20240314T120000
DTEND;TZID=America/New_York:20240314T123000
DTSTAMP:20260421T073741
CREATED:20240313T174451Z
LAST-MODIFIED:20240314T004202Z
UID:28876-1710417600-1710419400@elisewitt.com
SUMMARY:Elise hosts Diane White-Clayton on the Daily Antidote of Song
DESCRIPTION:MAR. 14\n\n\n\n12:00 – 12:30 p.m. \n\n\n\nA native of Washington\, DC\, Diane White-Clayton holds Ph.D. and M.A. degrees in music composition from the University of California at Santa Barbara and a B.A. degree in music from Washington University in St. Louis\, Missouri with emphases in composition\, voice\, and piano. As a rotary scholar\, she studied classical piano at the Ecole Normale de Musique in Paris\, performing solo gospel concerts throughout Europe as an Ambassador of Goodwill. \n\n\n\nDaily Antidote of Song: Making each day better\, one song at a time! \n\n\n\nSinging together for 1000+ days! Join us every day at 12 noon ET for inspiration\, connection\, and the joy of singing! Our song leaders\, hosts\, and participants come from across the country and around the world.  \n\n\n\nJOIN US IN THE VIRTUAL ROOM AT NOON EASTERN \n\n\n\nJOIN US LIVE (OR SING ALONG ANYTIME) ON YOUTUBE! \n\n\n\nhttps://carpediemarts.org/daily-antidote-of-song
URL:https://elisewitt.com/web/calendar/elise-hosts-diane-white-clayton-031424/
CATEGORIES:Online Performance
ATTACH;FMTTYPE=image/png:https://elisewitt.com/web/wp-content/uploads/2024/03/Screenshot-2024-03-13-at-1.44.06-PM.png
END:VEVENT
BEGIN:VEVENT
DTSTART;TZID=America/New_York:20240321T120000
DTEND;TZID=America/New_York:20240321T123000
DTSTAMP:20260421T073741
CREATED:20240314T010518Z
LAST-MODIFIED:20240314T010525Z
UID:28882-1711022400-1711024200@elisewitt.com
SUMMARY:Elise hosts Nisha Purushottam on the Daily Antidote of Song
DESCRIPTION:MAR. 21\n\n\n\n12:00 – 12:30 p.m. \n\n\n\nDaily Antidote of Song: Making each day better\, one song at a time! \n\n\n\nSinging together for 1000+ days! Join us every day at 12 noon ET for inspiration\, connection\, and the joy of singing! Our song leaders\, hosts\, and participants come from across the country and around the world.  \n\n\n\nJOIN US IN THE VIRTUAL ROOM AT NOON EASTERN \n\n\n\nJOIN US LIVE (OR SING ALONG ANYTIME) ON YOUTUBE! \n\n\n\nhttps://carpediemarts.org/daily-antidote-of-song
URL:https://elisewitt.com/web/calendar/elise-hosts-das-032124/
CATEGORIES:Online Performance
ATTACH;FMTTYPE=image/png:https://elisewitt.com/web/wp-content/uploads/2021/10/daily-antidote-03-sml.png
END:VEVENT
END:VCALENDAR