BEGIN:VCALENDAR
VERSION:2.0
PRODID:-//Elise Witt - ECPv6.15.12.2//NONSGML v1.0//EN
CALSCALE:GREGORIAN
METHOD:PUBLISH
X-WR-CALNAME:Elise Witt
X-ORIGINAL-URL:https://elisewitt.com/web
X-WR-CALDESC:Events for Elise Witt
REFRESH-INTERVAL;VALUE=DURATION:PT1H
X-Robots-Tag:noindex
X-PUBLISHED-TTL:PT1H
BEGIN:VTIMEZONE
TZID:America/New_York
BEGIN:DAYLIGHT
TZOFFSETFROM:-0500
TZOFFSETTO:-0400
TZNAME:EDT
DTSTART:20230312T070000
END:DAYLIGHT
BEGIN:STANDARD
TZOFFSETFROM:-0400
TZOFFSETTO:-0500
TZNAME:EST
DTSTART:20231105T060000
END:STANDARD
BEGIN:DAYLIGHT
TZOFFSETFROM:-0500
TZOFFSETTO:-0400
TZNAME:EDT
DTSTART:20240310T070000
END:DAYLIGHT
BEGIN:STANDARD
TZOFFSETFROM:-0400
TZOFFSETTO:-0500
TZNAME:EST
DTSTART:20241103T060000
END:STANDARD
BEGIN:DAYLIGHT
TZOFFSETFROM:-0500
TZOFFSETTO:-0400
TZNAME:EDT
DTSTART:20250309T070000
END:DAYLIGHT
BEGIN:STANDARD
TZOFFSETFROM:-0400
TZOFFSETTO:-0500
TZNAME:EST
DTSTART:20251102T060000
END:STANDARD
END:VTIMEZONE
BEGIN:VEVENT
DTSTART;TZID=America/New_York:20240408T120000
DTEND;TZID=America/New_York:20240408T123000
DTSTAMP:20260421T054008
CREATED:20240314T011040Z
LAST-MODIFIED:20240314T011043Z
UID:28884-1712577600-1712579400@elisewitt.com
SUMMARY:Elise hosts  Tommy Goldsmith on the Daily Antidote of Song
DESCRIPTION:April 8\n\n\n\n12:00 – 12:30 p.m. \n\n\n\nThomas Goldsmith explores the origins and influence of “Foggy Mountain Breakdown” against the backdrop of Scruggs’s legendary career. Interviews with Scruggs\, his wife Louise\, disciple Béla Fleck\, and sidemen like Curly Seckler\, Mac Wiseman\, and Jerry Douglas shed light on topics like Scruggs’s musical evolution and his working relationship with Bill Monroe. As Goldsmith shows\, the captivating sound of “Foggy Mountain Breakdown” helped bring back the banjo from obscurity and distinguished the low-key Scruggs as a principal figure in American acoustic music. \n\n\n\nDaily Antidote of Song: Making each day better\, one song at a time! \n\n\n\nSinging together for 1000+ days! Join us every day at 12 noon ET for inspiration\, connection\, and the joy of singing! Our song leaders\, hosts\, and participants come from across the country and around the world.  \n\n\n\nJOIN US IN THE VIRTUAL ROOM AT NOON EASTERN \n\n\n\nJOIN US LIVE (OR SING ALONG ANYTIME) ON YOUTUBE! \n\n\n\nhttps://carpediemarts.org/daily-antidote-of-song
URL:https://elisewitt.com/web/calendar/elise-hosts-tommy-goldsmith-040824/
CATEGORIES:Online Performance
ATTACH;FMTTYPE=image/png:https://elisewitt.com/web/wp-content/uploads/2021/10/daily-antidote-03-sml.png
END:VEVENT
BEGIN:VEVENT
DTSTART;TZID=America/New_York:20240422T193000
DTEND;TZID=America/New_York:20240422T204500
DTSTAMP:20260421T054008
CREATED:20240313T033028Z
LAST-MODIFIED:20240313T033032Z
UID:28861-1713814200-1713818700@elisewitt.com
SUMMARY:Singing for Fun for Everyone  ~ Week 3 of 4 ~ Online
DESCRIPTION:4 Monday evenings on Zoom \n\n\n\n7:30 – 8:45 p.m.\n\n\n\nApril 8-29\n\n\n\n~ online zoom class ~ limited class size ~ \n\n\n\nUpon registration\, you will receive a link to join. \n\n\n\nOver the course of the class\, you will receive all the music\, including mp3 sound recordings\, lyrics\, and music notation. \n\n\n\nThough we’ve now been able to have occasional live and in person sings\, we are still going strong online\, with ever more fun ways to be together in the virtual space. It’s been lovely having folks from Canada\, Vermont\, California\, Alabama\, Illinois\, Connecticut\, Colorado\, Tennessee\, Michigan\, and Virginia\, join our regular Atlanta crew of singers. And there are so many wonderful new songs to enjoy in this new format. Come join us! \n\n\n\nDiscover\, explore\, and expand your natural voice with Singing for FUN for EVERYONE online. Singers learn songs that explore the vast expression of harmony from around the world.  There are also lots of songs in English\, including songs from the African American tradition\, quirky rounds\, food songs\, Elise originals\, and lots more! Singers of all levels of experience are welcome. \n\n\n\n\n\n\n\nFirst\, Register below: After registering\, you will receive a confirmation email containing information about joining the class. Registration required to receive the Zoom link. \n\n\n\nNext\, after you submit the registration form\, please send in payment. \n\n\n\n\n  \n\n\n\n First and Last Name\n \n \n Your email\n \n \n What is the name of the workshop/ concert you are registering for?\n \n \n What is the date of the workshop/ concert you are registering for?\n \n \n How will you pay?\nOnline via Venmo @Elise-WittOnline via Paypal @EliseWittCash or Check\n \n Your message (optional)\n \n \n[mailpoetsignup mailpoetsignup-278 list:4 list:7 "Join Elise's Newsletter"]\n \n\n \n\n\n\n\n\n\n\n\n\n\nWorkshop Fees\n\n\n\n\n\nPlease be affordable & generous \n\n\n\nChoose a Payment Option\n\n\n\n1) Venmo to @Elise-Witt ((look for my picture with the flowers to confirm it’s me!) \n\n\n\n2) Paypal to EMWorld Records @EliseWitt (look for my blue logo to confirm its me) \n\n\n\n3) Mail a check to: EMWorld Records\, PO Box 148\, Pine Lake GA 30072 \n\n\n\n4) Check or Cash in person \n\n\n\n\n\n\n\n\n\nThank you so much for an incredible experience.  Your warm and skilled guidance in bringing together 30+ unknown singers was a pleasure. What a wonderful experience! \nPamela \, Chicago
URL:https://elisewitt.com/web/calendar/singing-for-fun-for-everyone-042224/
CATEGORIES:Online Performance,Singing for Fun for Everyone,Singing Workshops
ATTACH;FMTTYPE=image/jpeg:https://elisewitt.com/web/wp-content/uploads/2024/02/389D44DF-C260-4A4E-B5CE-EA6C00F0F869_1_105_c.jpeg
END:VEVENT
END:VCALENDAR